BEGIN:VCALENDAR
VERSION:2.0
PRODID:-//ChamberMaster//Event Calendar 2.0//EN
METHOD:PUBLISH
X-PUBLISHED-TTL:P3D
REFRESH-INTERVAL:P3D
CALSCALE:GREGORIAN
BEGIN:VEVENT
DTSTART:20110301T013000Z
DTEND:20110301T033000Z
X-MICROSOFT-CDO-ALLDAYEVENT:FALSE
SUMMARY:Your Healthy Teen: Teens and Substance Use-Reducing the Risks
DESCRIPTION:Learn effective ways to talk with your teen about the risks of substance use and abuse\, peer pressure\, and other high risk behaviors.  Learn new parenting strategies to help your teen filter out negative influences and in positive ones.
X-ALT-DESC;FMTTYPE=text/html:Learn effective ways to talk with your teen about the risks of substance use and abuse\, peer pressure\, and other high risk behaviors.  Learn new parenting strategies to help your teen filter out negative influences and in positive ones.
LOCATION:Mountain Resource Center\, 11030 Kitty Drive\, Conifer
UID:e.692.846
SEQUENCE:3
DTSTAMP:20260425T003839Z
URL:https://business.goconifer.com/events/details/your-healthy-teen-teens-and-substance-use-reducing-the-risks-02-28-2011-846
END:VEVENT

END:VCALENDAR
