BEGIN:VCALENDAR
VERSION:2.0
PRODID:-//ChamberMaster//Event Calendar 2.0//EN
METHOD:PUBLISH
X-PUBLISHED-TTL:P3D
REFRESH-INTERVAL:P3D
CALSCALE:GREGORIAN
BEGIN:VEVENT
DTSTART:20100527T230000Z
DTEND:20100528T010000Z
X-MICROSOFT-CDO-ALLDAYEVENT:FALSE
SUMMARY:Young Professionals Kick-Off Mixer\, Evergreen Chamber
DESCRIPTION:Join us as Evergreen's Young Professionals Network\, "Incline" hosts its first event! \n\nWe hope you will come to enjoy networking\, fun\, appetizers and drink specials.
X-ALT-DESC;FMTTYPE=text/html:Join us as Evergreen's Young Professionals Network\, "Incline" hosts its first event! \n<br>We hope you will come to enjoy networking\, fun\, appetizers and drink specials.
LOCATION:Stagecoach Sports Grill\, Evergreen\, CO
UID:e.692.422
SEQUENCE:3
DTSTAMP:20260424T112552Z
URL:https://business.goconifer.com/events/details/young-professionals-kick-off-mixer-evergreen-chamber-05-27-2010-422
END:VEVENT

END:VCALENDAR
