BEGIN:VCALENDAR
VERSION:2.0
PRODID:-//ChamberMaster//Event Calendar 2.0//EN
METHOD:PUBLISH
X-PUBLISHED-TTL:P3D
REFRESH-INTERVAL:P3D
CALSCALE:GREGORIAN
BEGIN:VEVENT
DTSTART:20160512T010000Z
DTEND:20160512T023000Z
X-MICROSOFT-CDO-ALLDAYEVENT:FALSE
SUMMARY:World Jazz Concert
DESCRIPTION:Join us for a fusion of Turkish and Klezmer for your listening enchantment at our gorgeous venue nestled in the foothills overlooking Elk Meadow at sunset! Featuring Meg York on clarinet\, Pete Jacobs on bass\, Dave Froman on trumpet\, and David Hinojosa on Turkish percussion. Attendance is free but donations are welcome!
X-ALT-DESC;FMTTYPE=text/html:<span style="color:rgb(78\, 86\, 101)\; font-family:helvetica\,arial\,sans-serif\; font-size:14px">Join us for a fusion of Turkish and Klezmer for your listening enchantment at our gorgeous venue nestled in the foothills overlooking Elk Meadow at sunset! Featuring Meg York on clarinet\, Pete Jacobs on bass\, Dave Froman on trumpet\, and David Hinojosa on Turkish percussion. Attendance is free but donations are welcome!</span>
LOCATION:Congregation Beth Evergreen
UID:e.692.17311
SEQUENCE:3
DTSTAMP:20260421T235849Z
URL:https://business.goconifer.com/events/details/world-jazz-concert-05-11-2016-17311
END:VEVENT

END:VCALENDAR
