BEGIN:VCALENDAR
VERSION:2.0
PRODID:-//ChamberMaster//Event Calendar 2.0//EN
METHOD:PUBLISH
X-PUBLISHED-TTL:P3D
REFRESH-INTERVAL:P3D
CALSCALE:GREGORIAN
BEGIN:VEVENT
DTSTART:20160111T183000Z
DTEND:20160111T210000Z
X-MICROSOFT-CDO-ALLDAYEVENT:FALSE
SUMMARY:Workshop: The Power of the Inbox
DESCRIPTION:"Learn how to create a foundational marketing plan with this informational workshop given by Cheri Ruskus of The Victory Circles\, while you enjoy a delicious Bistro Colorado lunch!"\n\nregister here: https://www.poweroftheinbox.com
X-ALT-DESC;FMTTYPE=text/html:<div class="gmail_default" style="color: rgb(34\, 34\, 34)\; line-height: normal\; font-family: tahoma\, sans-serif\; font-size: small\;"><span style="color: rgb(20\, 24\, 35)\; font-family: helvetica\, arial\, sans-serif\; font-size: 14px\; line-height: 18.76px\;">&quot\;Learn how to create a foundational marketing plan with this informational workshop given by Cheri Ruskus of The Victory Circles\, while you enjoy a delicious Bistro Colorado lunch!&quot\;</span></div>\n\n<div class="gmail_default" style="color: rgb(34\, 34\, 34)\; line-height: normal\; font-family: tahoma\, sans-serif\; font-size: small\;"><span style="color: rgb(20\, 24\, 35)\; font-family: helvetica\, arial\, sans-serif\; font-size: 14px\; line-height: 18.76px\;">register here:&nbsp\;<a href="https://www.poweroftheinbox.com/" style="color: rgb(17\, 85\, 204)\;" target="_blank">https://www.poweroftheinbox.<wbr />com</a></span></div>\n
LOCATION:Bistro Colorado 1552 Bergen Pkwy Evergreen\, cO 80439
UID:e.692.14186
SEQUENCE:3
DTSTAMP:20260422T041431Z
URL:https://business.goconifer.com/events/details/workshop-the-power-of-the-inbox-01-11-2016-14186
END:VEVENT

END:VCALENDAR
