BEGIN:VCALENDAR
VERSION:2.0
PRODID:-//ChamberMaster//Event Calendar 2.0//EN
METHOD:PUBLISH
X-PUBLISHED-TTL:P3D
REFRESH-INTERVAL:P3D
CALSCALE:GREGORIAN
BEGIN:VEVENT
DTSTART:20130227T183000Z
DTEND:20130227T200000Z
X-MICROSOFT-CDO-ALLDAYEVENT:FALSE
SUMMARY:Workshop: The Building Blocks for Strategic Planning
DESCRIPTION:Kelly Trilk will present the 7 key "building blocks" to strategic planning.
X-ALT-DESC;FMTTYPE=text/html:<p>\n	Kelly Trilk will present the 7 key &quot\;building blocks&quot\; to strategic planning.</p>\n
LOCATION:Conifer Community Church 9998 S. Havecost Rd. (by Ace Hardware\, right off of Hwy 285)
UID:e.692.1412
SEQUENCE:3
DTSTAMP:20260424T114406Z
URL:https://business.goconifer.com/events/details/workshop-the-building-blocks-for-strategic-planning-02-27-2013-1412
END:VEVENT

END:VCALENDAR
