BEGIN:VCALENDAR
VERSION:2.0
PRODID:-//ChamberMaster//Event Calendar 2.0//EN
METHOD:PUBLISH
X-PUBLISHED-TTL:P3D
REFRESH-INTERVAL:P3D
CALSCALE:GREGORIAN
BEGIN:VEVENT
DTSTART:20170420T150000Z
DTEND:20170420T163000Z
X-MICROSOFT-CDO-ALLDAYEVENT:FALSE
SUMMARY:Workshop: Back to Basics with Social Media
DESCRIPTION:Back to Basics with Social Media: \n\nWhere To Be\, What To Say\n \n\nGrow your referrals\, create buzz around your brand to increase awareness \n\nand shorten your sales cycle by being social! \n\n \n\nThis interactive session will give you the basics of social media to learn how to plan\, what to say and how to engage your network to empower your voice! Learn:\n\n  What is social media really?\n\n  Triple A's of Social: Know why you are there and what your audience expects\n\n  Give a PIECE of yourself: What Should I Say To Engage Followers?  \n\n  Understanding Each Channels Uses: The Body of Social Communications\n\n  How Will It Grow My Business?
X-ALT-DESC;FMTTYPE=text/html:<div style="text-align: center\;"><span style="font-size:22px"><strong><span style="color:#063D71"><span style="font-family:arial black">Back to Basics with Social Media: </span></span></strong><br />\n<strong><span style="color:#063D71"><span style="font-family:arial black">Where To Be\, What To Say</span></span></strong></span></div>\n&nbsp\;<br />\n<strong><span style="color:#bd1c22"><span style="font-family:arial"><span style="font-size:14pt">Grow your referrals\, create buzz around your brand to increase awareness </span></span></span></strong><br />\n<strong><span style="color:#bd1c22"><span style="font-family:arial"><span style="font-size:14pt">and shorten your sales cycle by being social! </span></span></span></strong><br />\n&nbsp\;<br />\n<span style="font-size:18px"><strong><span style="color:black"><span style="font-family:arial">This interactive session will give you the basics of social media to learn how to plan\, what to say and how to engage your network to empower your voice! Learn:</span></span></strong><br />\n<span style="color:black"><span style="font-family:symbol">&middot\;</span></span>&nbsp\;<span style="color:black"><span style="font-family:arial">What is social media really?</span></span><br />\n<span style="color:black"><span style="font-family:symbol">&middot\;</span></span>&nbsp\;<span style="color:black"><span style="font-family:arial">Triple A&#39\;s of Social: Know why you are there and what your audience expects</span></span><br />\n<span style="color:black"><span style="font-family:symbol">&middot\;</span></span>&nbsp\;<span style="color:black"><span style="font-family:arial">Give a PIECE of yourself: What Should I Say To Engage Followers?&nbsp\;&nbsp\;</span></span><br />\n<span style="color:black"><span style="font-family:symbol">&middot\;</span></span>&nbsp\;<span style="color:black"><span style="font-family:arial">Understanding Each Channels Uses: The Body of Social Communications</span></span><br />\n<span style="color:black"><span style="font-family:symbol">&middot\;</span></span>&nbsp\;<span style="color:black"><span style="font-family:arial">How Will It Grow My Business?</span></span></span><br />\n&nbsp\;
LOCATION:Evergreen Fire & Rescue Building
UID:e.692.22072
SEQUENCE:3
DTSTAMP:20260422T150241Z
URL:https://business.goconifer.com/events/details/workshop-back-to-basics-with-social-media-22072
END:VEVENT

END:VCALENDAR
