BEGIN:VCALENDAR
VERSION:2.0
PRODID:-//ChamberMaster//Event Calendar 2.0//EN
METHOD:PUBLISH
X-PUBLISHED-TTL:P3D
REFRESH-INTERVAL:P3D
CALSCALE:GREGORIAN
BEGIN:VEVENT
DTSTART:20250514T233000Z
DTEND:20250515T000000Z
X-MICROSOFT-CDO-ALLDAYEVENT:FALSE
SUMMARY:Women's Circle
DESCRIPTION:Expand your circle and connect with others in a safe space. Activate your creative power to align with your feminine presence that attracts the situations and relationships that you desire. Brenda will share powerful practices to embolden you to show up in life to be seen and heard.
X-ALT-DESC;FMTTYPE=text/html:<span style="color:rgb(29\, 33\, 41)\; font-family:times\; font-size:15px">Expand your&nbsp\;circle&nbsp\;and connect with others in a safe space.&nbsp\;Activate your creative power to align with your feminine presence that attracts the situations and relationships that you desire. Brenda will share powerful practices to embolden you to show up in life to be seen and heard.</span><br />\n&nbsp\;\n<div>&nbsp\;\n<div>&nbsp\;</div>\n</div>\n
LOCATION:Taspen's Yoga and Healing Center 25797 Conifer Rd Ste C-130\, Conifer\, CO 80433\, USA REGISTER HERE: https://peaceworksinc.co/events?
UID:e.692.46814
SEQUENCE:3
DTSTAMP:20260425T215414Z
URL:https://business.goconifer.com/events/details/women-s-circle-05-14-2025-46814
END:VEVENT

END:VCALENDAR
