BEGIN:VCALENDAR
VERSION:2.0
PRODID:-//ChamberMaster//Event Calendar 2.0//EN
METHOD:PUBLISH
X-PUBLISHED-TTL:P3D
REFRESH-INTERVAL:P3D
CALSCALE:GREGORIAN
BEGIN:VEVENT
DTSTART:20250402T233000Z
DTEND:20250403T000000Z
X-MICROSOFT-CDO-ALLDAYEVENT:FALSE
SUMMARY:Women's Circle
DESCRIPTION:Expand your circle and connect with others in a safe space. Activate your creative power to align with your feminine presence that attracts the situations and relationships that you desire. Carrie will share powerful practices to embolden you to show up in life to be seen and heard.\n\n \nREGISTER:\nhttps://peaceworksinc.co/events
X-ALT-DESC;FMTTYPE=text/html:<span style="color:rgb(29\, 33\, 41)\; font-family:times\; font-size:15px">Expand your&nbsp\;circle&nbsp\;and connect with others in a safe space.&nbsp\;Activate your creative power to align with your feminine presence that attracts the situations and relationships that you desire. Carrie will share powerful practices to embolden you to show up in life to be seen and heard.</span><br />\n&nbsp\;\n<div><strong>REGISTER:</strong>\n<div>https://peaceworksinc.co/events</div>\n</div>\n
LOCATION:Taspen's Yoga and Healing Center 25797 Conifer Rd Ste C-130\, Conifer\, CO 80433\, USA
UID:e.692.46786
SEQUENCE:3
DTSTAMP:20260426T010249Z
URL:https://business.goconifer.com/events/details/women-s-circle-04-02-2025-46786
END:VEVENT

END:VCALENDAR
