BEGIN:VCALENDAR
VERSION:2.0
PRODID:-//ChamberMaster//Event Calendar 2.0//EN
METHOD:PUBLISH
X-PUBLISHED-TTL:P3D
REFRESH-INTERVAL:P3D
CALSCALE:GREGORIAN
BEGIN:VEVENT
DTSTART:20150319T000000Z
DTEND:20150319T013000Z
X-MICROSOFT-CDO-ALLDAYEVENT:FALSE
SUMMARY:Women and Money- A Beginner's Class
DESCRIPTION:As women we know\, that we have different priorities and learning styles than men. Women tend to live longer\, choose safety over risk\, are caregivers\, and plan for the future. This class covers the financial planning process from start to finish\, including: setting financial goals\, creating a budget\, determining your risk tolerance\, Roth and Traditional IRA's\, spousal Social Security benefits\, taxes and inflation and more.  This fun\,easy to understand class is given by Investment Adviser\, Jo-Ann Holst.
X-ALT-DESC;FMTTYPE=text/html:<div>\n<div><span style="font-size:12pt\; line-height:1.6">As women we know\, that we have different priorities and learning styles than men. Women tend to live longer\, choose safety over risk\, are caregivers\, and plan for the future. This class covers the financial planning process from start to finish\, including: setting financial goals\, creating a budget\, determining your risk tolerance\, Roth and Traditional IRA&#39\;s\, spousal Social Security benefits\, taxes and inflation and more.&nbsp\; This fun\,easy to understand class is given by Investment Adviser\, Jo-Ann Holst.</span></div>\n\n<div>&nbsp\;</div>\n</div>\n\n<div>&nbsp\;</div>\n
LOCATION:Cherry Creek 50 S. Steele Street\, Ste. 250 Denver\, CO 80209
UID:e.692.8818
SEQUENCE:3
DTSTAMP:20260422T191023Z
URL:https://business.goconifer.com/events/details/women-and-money-a-beginner-s-class-03-18-2015-8818
END:VEVENT

END:VCALENDAR
