BEGIN:VCALENDAR
VERSION:2.0
PRODID:-//ChamberMaster//Event Calendar 2.0//EN
METHOD:PUBLISH
X-PUBLISHED-TTL:P3D
REFRESH-INTERVAL:P3D
CALSCALE:GREGORIAN
BEGIN:VEVENT
DTSTART:20110220T030000Z
DTEND:20110220T070000Z
X-MICROSOFT-CDO-ALLDAYEVENT:FALSE
SUMMARY:Winter Fest for the Friends of Conifer Parks and Rec
DESCRIPTION:Featuring Kicked to the Curb!\n\n	Bring your friends and dance the night away!
X-ALT-DESC;FMTTYPE=text/html:<p>\n	Featuring Kicked to the Curb!<br />\n	Bring your friends and dance the night away!</p>\n
LOCATION:Raven's Tavern (Near the King Soopers and Wendy's) 25577 Conifer Road\, Suite 100 Conifer\, CO 80433
UID:e.692.1118
SEQUENCE:3
DTSTAMP:20260425T003920Z
URL:https://business.goconifer.com/events/details/winter-fest-for-the-friends-of-conifer-parks-and-rec-02-19-2011-1118
END:VEVENT

END:VCALENDAR
