BEGIN:VCALENDAR
VERSION:2.0
PRODID:-//ChamberMaster//Event Calendar 2.0//EN
METHOD:PUBLISH
X-PUBLISHED-TTL:P3D
REFRESH-INTERVAL:P3D
CALSCALE:GREGORIAN
BEGIN:VEVENT
DTSTART:20160702T160000Z
DTEND:20160702T170000Z
X-MICROSOFT-CDO-ALLDAYEVENT:FALSE
SUMMARY:Wildlife Photography Class at Staunton State Park
DESCRIPTION:Wildlife Photography Class 10am\n\nLearn how to take breathtaking pictures! Bring your camera and Hike along to learn how to use your camera to take extraordinary pictures of the beautiful scenery at the Staunton Park!
X-ALT-DESC;FMTTYPE=text/html:Wildlife Photography Class 10am<br />\nLearn how to take breathtaking pictures! Bring your camera and Hike along to learn how to use your camera to take extraordinary pictures of the beautiful scenery at the Staunton Park!
LOCATION:Staunton State Park\, 12102 S Elk Creek Rd\, Pine CO 80470
UID:e.692.18919
SEQUENCE:3
DTSTAMP:20260421T182447Z
URL:https://business.goconifer.com/events/details/wildlife-photography-class-at-staunton-state-park-07-02-2016-18919
END:VEVENT

END:VCALENDAR
