BEGIN:VCALENDAR
VERSION:2.0
PRODID:-//ChamberMaster//Event Calendar 2.0//EN
METHOD:PUBLISH
X-PUBLISHED-TTL:P3D
REFRESH-INTERVAL:P3D
CALSCALE:GREGORIAN
BEGIN:VEVENT
DTSTART:20160618T160000Z
DTEND:20160618T180000Z
X-MICROSOFT-CDO-ALLDAYEVENT:FALSE
SUMMARY:Wildlife Photography Class
DESCRIPTION:Wildlife Photography Class 10am\n\nBring dad along and learn how to take breathtaking pictures! Bring your camera and Hike along to learn how to use your camera to take extraordinary pictures of the beautiful scenery at the Staunton Park!
X-ALT-DESC;FMTTYPE=text/html:<strong><span style="color:#008800">Wildlife Photography Class 10am</span></strong><br />\n<em>Bring dad along and learn how to take breathtaking pictures! Bring your camera and Hike along to learn how to use your camera to take extraordinary pictures of the beautiful scenery at the Staunton Park!</em>
LOCATION:Staunton State Park\, 12102 S Elk Creek Rd\, Pine CO 80470
UID:e.692.18852
SEQUENCE:3
DTSTAMP:20260421T211346Z
URL:https://business.goconifer.com/events/details/wildlife-photography-class-06-18-2016-18852
END:VEVENT

END:VCALENDAR
