BEGIN:VCALENDAR
VERSION:2.0
PRODID:-//ChamberMaster//Event Calendar 2.0//EN
METHOD:PUBLISH
X-PUBLISHED-TTL:P3D
REFRESH-INTERVAL:P3D
CALSCALE:GREGORIAN
BEGIN:VEVENT
DTSTART:20160712T160000Z
DTEND:20160712T170000Z
X-MICROSOFT-CDO-ALLDAYEVENT:FALSE
SUMMARY:Wildflower Hike
DESCRIPTION:Wildflower Hike  10am\n\nMeet at the Group Picnic area for a hike with an Expert Wildflower guide and discover Colorado's wonderful wildflowers!
X-ALT-DESC;FMTTYPE=text/html:Wildflower Hike&nbsp\; 10am<br />\nMeet at the Group Picnic area for a hike with an Expert Wildflower guide and discover Colorado&rsquo\;s wonderful wildflowers!
LOCATION:Staunton State Park \, 12102 S. Elk Creek Rd\, Pine CO 80470
UID:e.692.18908
SEQUENCE:3
DTSTAMP:20260421T193325Z
URL:https://business.goconifer.com/events/details/wildflower-hike-07-12-2016-18908
END:VEVENT

END:VCALENDAR
