BEGIN:VCALENDAR
VERSION:2.0
PRODID:-//ChamberMaster//Event Calendar 2.0//EN
METHOD:PUBLISH
X-PUBLISHED-TTL:P3D
REFRESH-INTERVAL:P3D
CALSCALE:GREGORIAN
BEGIN:VEVENT
DTSTART:20160604T160000Z
DTEND:20160604T180000Z
X-MICROSOFT-CDO-ALLDAYEVENT:FALSE
SUMMARY:Wildflower Hike
DESCRIPTION:Wildflower Hike 10am\n\nMeet at the Group Picnic area for a guided hike and discover Colorado's wonderful wildflowers at Staunton State Park!
X-ALT-DESC;FMTTYPE=text/html:<strong><span style="color:#008800">Wildflower Hike 10am</span></strong><br />\n<em>Meet at the Group Picnic area for a guided hike and discover Colorado&rsquo\;s wonderful wildflowers at Staunton State Park!</em>
LOCATION:Staunton State Park\, 12102 S Elk Creek Rd\, Pine CO 80470
UID:e.692.18835
SEQUENCE:3
DTSTAMP:20260421T211117Z
URL:https://business.goconifer.com/events/details/wildflower-hike-06-04-2016-18835
END:VEVENT

END:VCALENDAR
