BEGIN:VCALENDAR
VERSION:2.0
PRODID:-//ChamberMaster//Event Calendar 2.0//EN
METHOD:PUBLISH
X-PUBLISHED-TTL:P3D
REFRESH-INTERVAL:P3D
CALSCALE:GREGORIAN
BEGIN:VEVENT
DTSTART:20160601T160000Z
DTEND:20160601T180000Z
X-MICROSOFT-CDO-ALLDAYEVENT:FALSE
SUMMARY:Wildflower Hike
DESCRIPTION:Meet at the Group Picnic area in Staunton State Park for a guided hike and discover Colorado's wonderful wildflowers!
X-ALT-DESC;FMTTYPE=text/html:<em>Meet at the Group Picnic area in Staunton State Park for a guided hike and discover Colorado&rsquo\;s wonderful wildflowers!</em>
LOCATION:
UID:e.692.18832
SEQUENCE:3
DTSTAMP:20260421T211117Z
URL:https://business.goconifer.com/events/details/wildflower-hike-06-01-2016-18832
END:VEVENT

END:VCALENDAR
