BEGIN:VCALENDAR
VERSION:2.0
PRODID:-//ChamberMaster//Event Calendar 2.0//EN
METHOD:PUBLISH
X-PUBLISHED-TTL:P3D
REFRESH-INTERVAL:P3D
CALSCALE:GREGORIAN
BEGIN:VEVENT
DTSTART:20140412T000000Z
DTEND:20140412T030000Z
X-MICROSOFT-CDO-ALLDAYEVENT:FALSE
SUMMARY:Wild Game Potluck Fundraiser
DESCRIPTION:Event benefiting Conifer High School Athletic Fields Improvement Project\n\n\n\nGo to www.clubchs.org for complete details
X-ALT-DESC;FMTTYPE=text/html:Event benefiting Conifer High School Athletic Fields Improvement Project<br />\n<br />\nGo to <a href="http://www.clubchs.org">www.clubchs.org</a> for complete details<br />\n<br />\n<br />\n&nbsp\;
LOCATION:Evergreen Lake House 29612 Upper Bear Creek Road\, Evergreen
UID:e.692.2352
SEQUENCE:3
DTSTAMP:20260423T142839Z
URL:https://business.goconifer.com/events/details/wild-game-potluck-fundraiser-04-11-2014-2352
END:VEVENT

END:VCALENDAR
