BEGIN:VCALENDAR
VERSION:2.0
PRODID:-//ChamberMaster//Event Calendar 2.0//EN
METHOD:PUBLISH
X-PUBLISHED-TTL:P3D
REFRESH-INTERVAL:P3D
CALSCALE:GREGORIAN
BEGIN:VEVENT
DTSTART:20200307T220000Z
DTEND:20200307T233000Z
X-MICROSOFT-CDO-ALLDAYEVENT:FALSE
SUMMARY:Wilbur and the Web matinee performance today
DESCRIPTION:The Premier Company proudly presents this wonderful adaptation of E.B. White's Charlotte's Web. Charlotte is a brave and enterprising spider who weaves messages in her web to save the life of Wilbur\, the pig. Her team includes a jazz-loving dirty rat\, line dancing goslings and their mother and a whole host of caring and creative barnyard animals. Wilbur repays the kindness of his friends by saving the lives of 514 of Charlotte's babies.\n\nPlease join us for this delightful\, heartwarming tale at StageDoor\, which is located a 25797 Conifer Road\, in Conifer. Performances are February 28 through March 8\, on Friday and Saturday nights at 7:00 pm and matinees on Saturdays and Sundays at 3:00 pm. A special appearance at all matinee performances will be our Debut Company presenting Once Upon A Lily Pad. You may find out more about the show and  purchase tickets at www.stagedoortheatre.org\, for the price of $12 - $14.
X-ALT-DESC;FMTTYPE=text/html:<span style="font-family:bookman old style"><span style="font-size:14pt">The Premier Company proudly presents this wonderful adaptation of E.B. White&#39\;s&nbsp\;<em>Charlotte&#39\;s Web.&nbsp\;</em>Charlotte is a brave and enterprising spider who weaves messages in her web to save the life of Wilbur\, the pig. Her team includes a jazz-loving dirty rat\, line dancing goslings and their mother and a whole host of caring and creative barnyard animals. Wilbur repays the kindness of his friends by saving the lives of 514 of Charlotte&#39\;s babies.</span></span><br />\n<span style="font-family:bookman old style"><span style="font-size:14pt">Please join us for this delightful\, heartwarming tale at StageDoor\, which is located a 25797 Conifer Road\, in Conifer. Performances are February 28 through March 8\, on Friday and Saturday nights at 7:00 pm and matinees on Saturdays and Sundays at 3:00 pm. A special appearance at all matinee performances will be our Debut Company presenting Once Upon A Lily Pad. You may find out more about the show and&nbsp\;&nbsp\;purchase tickets at&nbsp\;</span></span><a href="http://www.stagedoortheatre.org/" style="color:purple\;"><span style="font-family:bookman old style"><span style="font-size:14pt">www.stagedoortheatre.org</span></span></a><span style="font-family:bookman old style"><span style="font-size:14pt">\, for the price of $12 - $14.</span></span>
LOCATION:StageDoor Theatre 25797 Conifer Road Conifer CO 80433
UID:e.692.30055
SEQUENCE:3
DTSTAMP:20260426T033356Z
URL:https://business.goconifer.com/events/details/wilbur-and-the-web-matinee-performance-today-03-07-2020-30055
END:VEVENT

END:VCALENDAR
