BEGIN:VCALENDAR
VERSION:2.0
PRODID:-//ChamberMaster//Event Calendar 2.0//EN
METHOD:PUBLISH
X-PUBLISHED-TTL:P3D
REFRESH-INTERVAL:P3D
CALSCALE:GREGORIAN
BEGIN:VEVENT
DTSTART:20160323T140000Z
DTEND:20160323T153000Z
X-MICROSOFT-CDO-ALLDAYEVENT:FALSE
SUMMARY:Well Being in the Workplace and Beyond
DESCRIPTION:Evergreen Area Chamber of Commerce Workshop: Suzanne Levy ACC\, CMC\, CWC\, CPPC of Evergreen Life and Wellness Coaching will lead this interactive workshop\, teaching you how to unplug\, slow down\, and enjoy your life and your work.
X-ALT-DESC;FMTTYPE=text/html:Evergreen Area Chamber of Commerce Workshop: Suzanne Levy ACC\, CMC\, CWC\, CPPC of Evergreen Life and Wellness Coaching will lead this interactive workshop\, teaching you how to unplug\, slow down\, and enjoy your life and your work.
LOCATION:Evergreen Fire Rescue 1802 Bergen Pkwy Evergreen\, CO 80439
UID:e.692.17130
SEQUENCE:3
DTSTAMP:20260422T012731Z
URL:https://business.goconifer.com/events/details/well-being-in-the-workplace-and-beyond-03-23-2016-17130
END:VEVENT

END:VCALENDAR
