BEGIN:VCALENDAR
VERSION:2.0
PRODID:-//ChamberMaster//Event Calendar 2.0//EN
METHOD:PUBLISH
X-PUBLISHED-TTL:P3D
REFRESH-INTERVAL:P3D
CALSCALE:GREGORIAN
BEGIN:VEVENT
DTSTART:20130227T003000Z
DTEND:20130828T003000Z
X-MICROSOFT-CDO-ALLDAYEVENT:FALSE
SUMMARY:Weekly Meditation and Spiritual Circle
DESCRIPTION:A weekly guide meditation followed by a brief connection/support cirlce. Each week the meditation will be different but always the intention will be to uplift\, inspire or help participants to reduce stress and enjoy a moment of inner reflection and time with like minded souls.
X-ALT-DESC;FMTTYPE=text/html:A weekly guide meditation followed by a brief connection/support cirlce. Each week the meditation will be different but always the intention will be to uplift\, inspire or help participants to reduce stress and enjoy a moment of inner reflection and time with like minded souls.
LOCATION:26267 Conifer Rd third floor
UID:e.692.1419
SEQUENCE:3
DTSTAMP:20260424T015814Z
URL:https://business.goconifer.com/events/details/weekly-meditation-and-spiritual-circle-02-26-2013-1419
END:VEVENT

END:VCALENDAR
