BEGIN:VCALENDAR
VERSION:2.0
PRODID:-//ChamberMaster//Event Calendar 2.0//EN
METHOD:PUBLISH
X-PUBLISHED-TTL:P3D
REFRESH-INTERVAL:P3D
CALSCALE:GREGORIAN
BEGIN:VEVENT
DTSTART:20240313T220000Z
DTEND:20240314T000000Z
X-MICROSOFT-CDO-ALLDAYEVENT:FALSE
SUMMARY:Vision Board Workshop
DESCRIPTION:Embark on a transformative journey with "Dreams Unveiled: Vision Board Workshop for Manifesting Your Best Life." This immersive workshop invites you to explore the art of visualization and goal-setting through the creation of a digital vision board.\n\n\n\nUnleash your creativity as you assemble a visual representation of your aspirations\, dreams\, and desires. Facilitated by Docia Boylen\, this workshop provides a supportive space to reflect on your ambitions and chart a course towards manifesting your best life. Join us for an inspiring and empowering experience\, and let your dreams take shape on your personalized vision board. It's time to unveil the extraordinary life you envision!\n\n\n\nWe will be using Canva to create our vision boards. If you don't already have an account\, you can sign up for a free Canva account here: https://www.canva.com/free/
X-ALT-DESC;FMTTYPE=text/html:<span style="color: rgb(13\, 13\, 13)\; font-family: Söhne\, ui-sans-serif\, system-ui\, -apple-system\, &quot\;Segoe UI&quot\;\, Roboto\, Ubuntu\, Cantarell\, &quot\;Noto Sans&quot\;\, sans-serif\, &quot\;Helvetica Neue&quot\;\, Arial\, &quot\;Apple Color Emoji&quot\;\, &quot\;Segoe UI Emoji&quot\;\, &quot\;Segoe UI Symbol&quot\;\, &quot\;Noto Color Emoji&quot\;\; font-size: 16px\; white-space-collapse: preserve\;">Embark on a transformative journey with &quot\;Dreams Unveiled: Vision Board Workshop for Manifesting Your Best Life.&quot\; This immersive workshop invites you to explore the art of visualization and goal-setting through the creation of a digital vision board.<br />\n<br />\nUnleash your creativity as you assemble a visual representation of your aspirations\, dreams\, and desires. Facilitated by Docia Boylen\, this workshop provides a supportive space to reflect on your ambitions and chart a course towards manifesting your best life. Join us for an inspiring and empowering experience\, and let your dreams take shape on your personalized vision board. It&#39\;s time to unveil the extraordinary life you envision!<br />\n<br />\nWe will be using Canva to create our vision boards. If you don&#39\;t already have an account\, you can sign up for a free Canva account here: <a href="https://www.canva.com/free/">https://www.canva.com/free/</a></span><br />\n&nbsp\;
LOCATION:Conifer Area Chamber of Commerce 12424 Big Timber Drive Conifer\, CO 80433
UID:e.692.41027
SEQUENCE:3
DTSTAMP:20260420T112305Z
URL:https://business.goconifer.com/events/details/vision-board-workshop-41027
END:VEVENT

END:VCALENDAR
