BEGIN:VCALENDAR
VERSION:2.0
PRODID:-//ChamberMaster//Event Calendar 2.0//EN
METHOD:PUBLISH
X-PUBLISHED-TTL:P3D
REFRESH-INTERVAL:P3D
CALSCALE:GREGORIAN
BEGIN:VEVENT
DTSTART:20200414T210000Z
DTEND:20200414T220000Z
X-MICROSOFT-CDO-ALLDAYEVENT:FALSE
SUMMARY:VIRTUAL Quarterly Nonprofit Meeting
DESCRIPTION:Join us for our local quarterly nonprofit meeting.  These are joint meetings hosted by Conifer Area Chamber of Commerce and Evergreen Area Chamber of Commerce.  Working together to help the local nonprofits.\n\n\n\nJoin us virtually on April 14 as we have a COVID-19 check-in.  We will discuss what your nonprofit is doing differently during the current situation and how things are going.  We will share successes and ideas.
X-ALT-DESC;FMTTYPE=text/html:Join us for our local quarterly nonprofit meeting.&nbsp\; These are joint meetings hosted by Conifer Area Chamber of Commerce and Evergreen Area Chamber of Commerce.&nbsp\; Working together to help the local nonprofits.<br />\n<br />\n<span class="JsGRdQ">Join us virtually on April 14 as we have a COVID-19 check-in.&nbsp\; We will discuss what your nonprofit is doing differently during the current situation and how things are going.&nbsp\; We will share successes and ideas.</span>
LOCATION:If you have deleted the email notification with the login and password\, please 'register' for the meeting and you will receive an email confirmation with the login information.
UID:e.692.30017
SEQUENCE:3
DTSTAMP:20260426T033314Z
URL:https://business.goconifer.com/events/details/virtual-quarterly-nonprofit-meeting-30017
END:VEVENT

END:VCALENDAR
