BEGIN:VCALENDAR
VERSION:2.0
PRODID:-//ChamberMaster//Event Calendar 2.0//EN
METHOD:PUBLISH
X-PUBLISHED-TTL:P3D
REFRESH-INTERVAL:P3D
CALSCALE:GREGORIAN
BEGIN:VEVENT
DTSTART:20110212T170000Z
DTEND:20110212T183000Z
X-MICROSOFT-CDO-ALLDAYEVENT:FALSE
SUMMARY:Valentines Craft Party and Storytime!
DESCRIPTION:Make valentine cards for all of your sweethearts!  \n\nJoin us to make creative cards and crafts.  Top off the fun by decorating heart cookies and enjoy a valentine?s story time about love and friends.  Geared for ages one to 5
X-ALT-DESC;FMTTYPE=text/html:Make valentine cards for all of your sweethearts!  \n<br>Join us to make creative cards and crafts.  Top off the fun by decorating heart cookies and enjoy a valentine?s story time about love and friends.  Geared for ages one to 5\n<br>
LOCATION:Party will be held in the Early Childhood classrooms at MRC\, located at 11030 Kitty Drive in Conifer.
UID:e.692.843
SEQUENCE:3
DTSTAMP:20260425T003749Z
URL:https://business.goconifer.com/events/details/valentines-craft-party-and-storytime-02-12-2011-843
END:VEVENT

END:VCALENDAR
