BEGIN:VCALENDAR
VERSION:2.0
PRODID:-//ChamberMaster//Event Calendar 2.0//EN
METHOD:PUBLISH
X-PUBLISHED-TTL:P3D
REFRESH-INTERVAL:P3D
CALSCALE:GREGORIAN
BEGIN:VEVENT
DTSTART:20150421T150000Z
DTEND:20150421T170000Z
X-MICROSOFT-CDO-ALLDAYEVENT:FALSE
SUMMARY:Using Facebook to Build Your Business
DESCRIPTION:Join us for a free class where you will learn the most effective techniques for using  this social media site to gain greater visibility for your business and share your message with more people!    Social\n\nmedia is one of the most affordable marketing strategies available to help you to stay in touch with your existing customer base and introduce your services and products to potential new clients!
X-ALT-DESC;FMTTYPE=text/html:<p><strong><span style="font-size:12px"><span style="font-family:arial\,helvetica\,sans-serif">Join us for a <u>free</u> class where you will learn the most effective techniques for using&nbsp\; this social media site to gain greater visibility for your business and share your message with more people!&nbsp\;&nbsp\;&nbsp\; Social<br />\nmedia is one of the most affordable marketing strategies available to help you to stay in touch with your existing customer base and introduce your services and products to potential new clients!&nbsp\;</span></span></strong></p>\n
LOCATION:EChO Job Center 3721 Evergreen Parkway\, Ste. 6 Evergreen\, CO 80439
UID:e.692.10282
SEQUENCE:3
DTSTAMP:20260422T173226Z
URL:https://business.goconifer.com/events/details/using-facebook-to-build-your-business-04-21-2015-10282
END:VEVENT

END:VCALENDAR
