BEGIN:VCALENDAR
VERSION:2.0
PRODID:-//ChamberMaster//Event Calendar 2.0//EN
METHOD:PUBLISH
X-PUBLISHED-TTL:P3D
REFRESH-INTERVAL:P3D
CALSCALE:GREGORIAN
BEGIN:VEVENT
DTSTART:20250730T170000Z
DTEND:20250730T180000Z
X-MICROSOFT-CDO-ALLDAYEVENT:FALSE
SUMMARY:Up level your business by aligning to Vision
DESCRIPTION:Up level your business by aligning to Vision \n\nDuring this lunch and learn you will name a clear vision for business that is meaningful to you.  You will also learn some tools to keep you motivated and focused on the action items that will create the results you are striving for. \n\n\n\nTaught by Danelle Bartel of Inner Matrix Systems
X-ALT-DESC;FMTTYPE=text/html:<span style="color: rgb(34\, 34\, 34)\; font-family: Arial\, Helvetica\, sans-serif\; font-size: small\;">Up level your business by aligning to Vision&nbsp\;<br />\nDuring this lunch and learn you will name a clear vision for business that is meaningful to you.&nbsp\; You will also learn some tools to keep you motivated and focused on the action items that will create the results you are striving for.&nbsp\;<br />\n<br />\nTaught by Danelle Bartel of Inner Matrix Systems</span>
LOCATION:Conifer Area Chamber of Commerce 12424 Big Timber Drive Unit 5 Conifer\, CO 80433
UID:e.692.47387
SEQUENCE:3
DTSTAMP:20260425T215731Z
URL:https://business.goconifer.com/events/details/up-level-your-business-by-aligning-to-vision-07-30-2025-47387
END:VEVENT

END:VCALENDAR
