BEGIN:VCALENDAR
VERSION:2.0
PRODID:-//ChamberMaster//Event Calendar 2.0//EN
METHOD:PUBLISH
X-PUBLISHED-TTL:P3D
REFRESH-INTERVAL:P3D
CALSCALE:GREGORIAN
BEGIN:VEVENT
DTSTART:20150829T160000Z
DTEND:20150829T180000Z
X-MICROSOFT-CDO-ALLDAYEVENT:FALSE
SUMMARY:UNFOLDING THE HEART ~ A YOGA WORKSHOP
DESCRIPTION:Unfolding the Heart ~ A Yoga Workshop\n\nBackbend\, Forward Bend & Restore While Learning the Anatomy of the Heart \n\nSaturday\, Aug. 29th // 10:00am - 12:00 pm // Taught by Mary-L. Bevington\n\nSuggested Donation $22 \n\nLearn about the heart ~ integral organ\, muscle\, gland ~ in all its mystery\, resiliency\, constant beat and flow. \n\nExpect yoga postures & little lessons along the way.\n\nContact info@taspens.com to register\n\nMary-Laurence 'Mary' Bevington\, MFA\, started teaching Hatha yoga in 1992. She has a traditional and somatic anatomy background informed primarily by the work of Bonnie Bainbridge Cohen\, and the Ayurvedic system. While in a somatic anatomy intensive at her alma mater\, Naropa University\, Mary learned that the heart is one long tube that spirals in on itself as it develops. This sparked Mary's period of Heart Research and the development of the 'Unfolding the Heart' yoga workshop based on her findings. In her spare time\, Mary makes art\, facilitates personal development\, and fine tunes her intuition.. Please visit her at www.marybevington.com
X-ALT-DESC;FMTTYPE=text/html:<p><strong>Unfolding the Heart ~ A Yoga Workshop</strong></p>\n\n<p><em>Backbend\, Forward Bend &amp\; Restore While Learning the Anatomy of the Heart&nbsp\;</em></p>\n\n<p><span style="font-family:inherit\; font-size:inherit">Saturday\, Aug. 29th</span>&nbsp\;//&nbsp\;<span style="font-family:inherit\; font-size:inherit">10:00am - 12:00 pm</span>&nbsp\;// Taught by Mary-L. Bevington</p>\n\n<p>Suggested Donation $22&nbsp\;</p>\n\n<p><em>Learn about the heart ~ integral organ\, muscle\, gland ~ in all its mystery\, resiliency\, constant beat and flow.&nbsp\;</em></p>\n\n<p><em>Expect yoga postures &amp\; little lessons along the way.</em></p>\n\n<p>Contact&nbsp\;<a href="mailto:yoga@movementboulder.com" style="margin: 0px\; padding: 0px\; border: 0px\; font-family: inherit\; font-size: inherit\; font-style: inherit\; font-variant: inherit\; font-weight: inherit\; font-stretch: inherit\; line-height: inherit\; color: rgb(13\, 81\, 89)\; text-decoration: none\; outline: 0px\; transition: color 0.1s linear\;">info@t</a><a href="http://aspens.com/" style="margin: 0px\; padding: 0px\; border: 0px\; font-family: inherit\; font-size: inherit\; font-style: inherit\; font-variant: inherit\; font-weight: inherit\; font-stretch: inherit\; line-height: inherit\; color: rgb(13\, 81\, 89)\; text-decoration: none\; outline: 0px\; transition: color 0.1s linear\;">aspens.com</a>&nbsp\;to register</p>\n\n<p><span style="font-family:inherit\; font-size:inherit">Mary-Laurence &lsquo\;Mary&rsquo\; Bevington\, MFA\, started teaching Hatha yoga in 1992. She has a traditional and somatic anatomy background informed primarily by the work of Bonnie Bainbridge Cohen\, and the Ayurvedic system. While in a somatic anatomy intensive at her alma mater\, Naropa University\, Mary learned that the heart is one long tube that spirals in on itself as it develops. This sparked Mary&#39\;s period of Heart Research and the development of the &#39\;Unfolding the Heart&rsquo\; yoga workshop based on her findings. In her spare time\, Mary makes art\, facilitates personal development\, and fine tunes her intuition.. Please visit her at&nbsp\;</span><a href="http://www.marybevington.com/" style="margin: 0px\; padding: 0px\; border: 0px\; font-family: inherit\; font-size: inherit\; font-style: inherit\; font-variant: inherit\; font-weight: inherit\; font-stretch: inherit\; line-height: inherit\; color: rgb(13\, 81\, 89)\; text-decoration: none\; outline: 0px\; transition: color 0.1s linear\;" target="_blank">www.marybevington.com</a></p>\n
LOCATION:Taspen's Organics and Holistic Wellness Center 12424 Big Timber Drive Conifer\, CO 80433
UID:e.692.12613
SEQUENCE:3
DTSTAMP:20260422T113107Z
URL:https://business.goconifer.com/events/details/unfolding-the-heart-a-yoga-workshop-08-29-2015-12613
END:VEVENT

END:VCALENDAR
