BEGIN:VCALENDAR
VERSION:2.0
PRODID:-//ChamberMaster//Event Calendar 2.0//EN
METHOD:PUBLISH
X-PUBLISHED-TTL:P3D
REFRESH-INTERVAL:P3D
CALSCALE:GREGORIAN
BEGIN:VEVENT
DTSTART:20200424T173000Z
DTEND:20200424T190000Z
X-MICROSOFT-CDO-ALLDAYEVENT:FALSE
SUMMARY:Unemployment and Funding Q&A
DESCRIPTION:Michele Foley with Jefferson County Workforce will be answering any questions regarding the unemployment that just opened up on Monday. Bill Aubin with Optive Commercial Capital\, will be on to answer questions regarding the PPP and the EIDL. And\, I will be discussing alternative funding resources.
X-ALT-DESC;FMTTYPE=text/html:<div style="color: rgb(54\, 73\, 95)\; font-family: Calibri\, Helvetica\, Arial\, sans-serif\; font-size: 14px\; white-space: pre-wrap\;"><span style="font-family: Arial\, Verdana\, Helvetica\, sans-serif\; font-size: 16px\; color: rgb(0\, 0\, 0)\;">Michele Foley with Jefferson County Workforce will be answering any questions regarding the </span><span style="font-family: Arial\, Verdana\, Helvetica\, sans-serif\; font-size: 16px\; color: rgb(0\, 0\, 0)\; font-weight: bold\;">unemployment</span><span style="font-family: Arial\, Verdana\, Helvetica\, sans-serif\; font-size: 16px\; color: rgb(0\, 0\, 0)\;"> that just opened up on Monday. Bill Aubin with Optive Commercial Capital\, will be on to answer questions regarding the </span><span style="font-family: Arial\, Verdana\, Helvetica\, sans-serif\; font-size: 16px\; color: rgb(0\, 0\, 0)\; font-weight: bold\;">PPP</span><span style="font-family: Arial\, Verdana\, Helvetica\, sans-serif\; font-size: 16px\; color: rgb(0\, 0\, 0)\;"> and the </span><span style="font-family: Arial\, Verdana\, Helvetica\, sans-serif\; font-size: 16px\; color: rgb(0\, 0\, 0)\; font-weight: bold\;">EIDL.</span><span style="font-family: Arial\, Verdana\, Helvetica\, sans-serif\; font-size: 16px\; color: rgb(0\, 0\, 0)\;"> And\, I will be discussing </span><span style="font-family: Arial\, Verdana\, Helvetica\, sans-serif\; font-size: 16px\; color: rgb(0\, 0\, 0)\; font-weight: bold\;">alternative funding </span><span style="font-family: Arial\, Verdana\, Helvetica\, sans-serif\; font-size: 16px\; color: rgb(0\, 0\, 0)\;">resources.</span></div>\n
LOCATION:
UID:e.692.30788
SEQUENCE:3
DTSTAMP:20260426T033403Z
URL:https://business.goconifer.com/events/details/unemployment-and-funding-q-a-30788
END:VEVENT

END:VCALENDAR
