BEGIN:VCALENDAR
VERSION:2.0
PRODID:-//ChamberMaster//Event Calendar 2.0//EN
METHOD:PUBLISH
X-PUBLISHED-TTL:P3D
REFRESH-INTERVAL:P3D
CALSCALE:GREGORIAN
BEGIN:VEVENT
DTSTART:20101001T000000Z
DTEND:20101001T040000Z
X-MICROSOFT-CDO-ALLDAYEVENT:FALSE
SUMMARY:Transitions: Hair & Fashion Show presented by Evergreen Area Chamber of Commerce
DESCRIPTION:Fashions from Evergreen?s DARE Boutique\, Le Boudoir Lingerie\, Doncaster Clothing Collection\, V?s Village Casuals\, Hills & Rails and fashionable eyewear from Evergreen Vision Clinic\, PC will be complemented by creative hair designs from the stylists at TallGrass. And one lucky fashionista will get a makeover right there at the show. Sales of raffle tickets will benefit Evergreen Animal Protective League and pets available for adoption will join models on the runway.
X-ALT-DESC;FMTTYPE=text/html:Fashions from Evergreen?s DARE Boutique\, Le Boudoir Lingerie\, Doncaster Clothing Collection\, V?s Village Casuals\, Hills & Rails and fashionable eyewear from Evergreen Vision Clinic\, PC will be complemented by creative hair designs from the stylists at TallGrass. And one lucky fashionista will get a makeover right there at the show. Sales of raffle tickets will benefit Evergreen Animal Protective League and pets available for adoption will join models on the runway.
LOCATION:Evergreen Country Day School
UID:e.692.582
SEQUENCE:3
DTSTAMP:20260424T181738Z
URL:https://business.goconifer.com/events/details/transitions-hair-fashion-show-presented-by-evergreen-area-chamber-of-commerce-09-30-2010-582
END:VEVENT

END:VCALENDAR
