BEGIN:VCALENDAR
VERSION:2.0
PRODID:-//ChamberMaster//Event Calendar 2.0//EN
METHOD:PUBLISH
X-PUBLISHED-TTL:P3D
REFRESH-INTERVAL:P3D
CALSCALE:GREGORIAN
BEGIN:VEVENT
DTSTART:20121115T020000Z
DTEND:20121115T040000Z
X-MICROSOFT-CDO-ALLDAYEVENT:FALSE
SUMMARY:Town Hall Meeting for the Conifer Area
DESCRIPTION:CONIFER AREA PARK &\n\n	RECREATION MASTER PLAN\n\n	\n\n	STAUNTON STATE PARK UPDATE\n\n	\n\n	CHRISTMAS IN CONIFER 2012 EVENTS\n\n	\n\n	UPDATES ABOUT\n\n	CDOT / CONIFER CHAMBER / DEVELOPMENT / SCHOOLS / LEGISLATURE\n\n	 \n\n	 \n\n	Conifer Area Council would like to thank:\n\n	ASPEN PARK TIRE & AUTO\n\n	26131 Main Street / Conifer\, CO 80433 / 303-838-4757\n\n	 \n\n	For their COMMUNITY SUPPORT of this Town Hall Meeting\n\n	Conifer Area Council is a nonpolitical organization that does not support or oppose any development\, issue\, political agenda\, individual person or business.
X-ALT-DESC;FMTTYPE=text/html:<p>\n	<span style="font-size: 18pt"><span style="font-family: arial black\, sans-serif">CONIFER AREA PARK &amp\;<br />\n	RECREATION MASTER PLAN</span></span><br />\n	<br />\n	<span style="font-size: 18pt"><span style="font-family: arial black\, sans-serif">STAUNTON STATE PARK UPDATE</span></span><br />\n	<br />\n	<span style="font-size: 18pt"><span style="font-family: arial black\, sans-serif">CHRISTMAS IN CONIFER 2012 EVENTS</span></span><br />\n	<br />\n	<span style="font-size: 18pt"><span style="font-family: arial black\, sans-serif">UPDATES ABOUT</span></span><br />\n	<span style="font-size: 14pt"><span style="font-family: arial black\, sans-serif">CDOT / CONIFER CHAMBER / DEVELOPMENT / SCHOOLS / LEGISLATURE</span></span><br />\n	&nbsp\;</p>\n<div style="border-bottom: 3pt dotted\; border-left: medium none\; padding-bottom: 1pt\; padding-left: 0in\; padding-right: 0in\; border-top: medium none\; border-right: medium none\; padding-top: 0in">\n	&nbsp\;</div>\n<p>\n	<span style="font-family: arial narrow\, sans-serif">Conifer Area Council would like to thank:</span><br />\n	<strong><span style="font-size: 20pt">ASPEN PARK TIRE &amp\; AUTO</span></strong><br />\n	<strong><span style="font-size: 16pt">26131 Main Street / Conifer\, CO 80433 / <a href="tel:303-838-4757" target="_blank" value="+13038384757">303-838-4757</a></span></strong><br />\n	&nbsp\;</p>\n<div style="border-bottom: 3pt dotted\; border-left: medium none\; padding-bottom: 1pt\; padding-left: 0in\; padding-right: 0in\; border-top: medium none\; border-right: medium none\; padding-top: 0in">\n	<strong><span style="font-size: 10pt"><span style="font-family: arial narrow\, sans-serif">For their COMMUNITY SUPPORT of this Town Hall Meeting</span></span></strong><br />\n	<span style="font-size: 8pt"><span style="font-family: arial narrow\, sans-serif">Conifer Area Council is a nonpolitical organization that does not support or oppose any development\, issue\, political agenda\, individual person or business. &nbsp\;</span></span></div>\n
LOCATION:West Jefferson Middle School Conifer\, CO 80433
UID:e.692.1370
SEQUENCE:3
DTSTAMP:20260424T145013Z
URL:https://business.goconifer.com/events/details/town-hall-meeting-for-the-conifer-area-11-14-2012-1370
END:VEVENT

END:VCALENDAR
