BEGIN:VCALENDAR
VERSION:2.0
PRODID:-//ChamberMaster//Event Calendar 2.0//EN
METHOD:PUBLISH
X-PUBLISHED-TTL:P3D
REFRESH-INTERVAL:P3D
CALSCALE:GREGORIAN
BEGIN:VEVENT
DTSTART:20130714T000000Z
DTEND:20130714T030000Z
X-MICROSOFT-CDO-ALLDAYEVENT:FALSE
SUMMARY:Timeless Treasures Fundraiser for Mountain Resourc Center
DESCRIPTION:Mountain Resource Center will host Timeless Treasures\, a fun-filled evening featuring a silent auction\, eats and drinks from 6 to 9 p.m. Saturday\, July 13 at Rio del Sol\, 28215 Highway 74 in downtown Evergreen. Auction items will include new and vintage art and jewelry as well as unique services and exclusive experiences. This charity event is to raise money to support neighbors and build a healthy community.\n\n	Space is limited. Ticket prices are $40 per individual or $70 for two people. Tickets are available online at www.mrcco.org or call 303-838-7552. To participate in the auction and purchase these unique timeless treasures to benefit Mountain Resource Center\, guests are asked to bring cash\, check or credit card.
X-ALT-DESC;FMTTYPE=text/html:<p class="MsoNormal" style="mso-margin-top-alt: auto\; mso-margin-bottom-alt: auto\;">\n	<span style="mso-fareast-font-family: &quot\;Times New Roman&quot\;\; mso-bidi-font-weight: bold\; mso-bidi-font-style: italic\;">Mountain Resource Center will host Timeless Treasures\, a fun-filled evening featuring a silent auction\, eats and drinks from 6 to 9 p.m. Saturday\, July 13 at Rio del Sol\, 28215 Highway 74 in downtown Evergreen. Auction items will include new and vintage art and jewelry as well as unique services and exclusive experiences. This charity event is to raise money to support neighbors and build a healthy community.</span></p>\n<p class="MsoNormal" style="mso-margin-top-alt: auto\; mso-margin-bottom-alt: auto\;">\n	<span style="mso-fareast-font-family: &quot\;Times New Roman&quot\;\; mso-bidi-font-weight: bold\; mso-bidi-font-style: italic\;">Space is limited. Ticket prices are $40 per individual or $70 for two people. Tickets are available online at <a href="http://www.mrcco.org">www.mrcco.org</a> or call 303-838-7552. To participate in the auction and purchase these unique timeless treasures to benefit Mountain Resource Center\, guests are asked to bring cash\, check or credit card.</span></p>\n
LOCATION:Rio del Sol\, downtown Evergreen
UID:e.692.1471
SEQUENCE:3
DTSTAMP:20260424T032202Z
URL:https://business.goconifer.com/events/details/timeless-treasures-fundraiser-for-mountain-resourc-center-07-13-2013-1471
END:VEVENT

END:VCALENDAR
