BEGIN:VCALENDAR
VERSION:2.0
PRODID:-//ChamberMaster//Event Calendar 2.0//EN
METHOD:PUBLISH
X-PUBLISHED-TTL:P3D
REFRESH-INTERVAL:P3D
CALSCALE:GREGORIAN
BEGIN:VEVENT
DTSTART:20100430T003000Z
DTEND:20100430T020000Z
X-MICROSOFT-CDO-ALLDAYEVENT:FALSE
SUMMARY:The Xocai Healthy Chocolate Opportunity
DESCRIPTION:Join us for a free healthy chocolate tasting and discover how unprocessed decadent dark chocolate can benefit your health AND is a lucrative side business!  A billion people ate chocolate today!
X-ALT-DESC;FMTTYPE=text/html:Join us for a free healthy chocolate tasting and discover how unprocessed decadent dark chocolate can benefit your health AND is a lucrative side business!  A billion people ate chocolate today!
LOCATION:26697 Pleasant Park Road Suite 200 Conifer\, CO 80433
UID:e.692.343
SEQUENCE:3
DTSTAMP:20260424T095803Z
URL:https://business.goconifer.com/events/details/the-xocai-healthy-chocolate-opportunity-04-29-2010-343
END:VEVENT

END:VCALENDAR
