BEGIN:VCALENDAR
VERSION:2.0
PRODID:-//ChamberMaster//Event Calendar 2.0//EN
METHOD:PUBLISH
X-PUBLISHED-TTL:P3D
REFRESH-INTERVAL:P3D
CALSCALE:GREGORIAN
BEGIN:VEVENT
DTSTART:20241005T000000Z
DTEND:20241005T020000Z
X-MICROSOFT-CDO-ALLDAYEVENT:FALSE
SUMMARY:The Witches Gathering
DESCRIPTION:They didn't burn witches\, they burned women!\n\nJoin us in celebrating the courage and strength of women\, many who are survivors of domestic violence and sexual assault. A community fundraiser and social event that brings together a group of like-minded friends who strive to make a difference for survivors in our community. \n\nDon your best witchy attire and join us for a powerful evening with a sacred cacao ceremony and sound healing. There will be savory morsels\, tasty treats\, and non-spirited beverages to enjoy\, along with a dessert auction and silent auction with other magickal surprises!\n\nSpace is limited\, reserve your ticket today!
X-ALT-DESC;FMTTYPE=text/html:<p><strong>They didn&rsquo\;t burn witches\, they burned women!</strong></p>\n\n<p>Join us in celebrating the courage and strength of women\, many who are survivors of domestic violence and sexual assault. A community fundraiser and social event that brings together a group of like-minded friends who strive to make a difference for survivors&nbsp\;in our community.&nbsp\;</p>\n\n<p>Don your best witchy attire and join us for a powerful evening with a sacred cacao ceremony and sound healing. There will be savory morsels\, tasty treats\, and non-spirited beverages to enjoy\, along with a dessert auction and silent auction with other magickal surprises!</p>\n\n<p><em>Space is limited\, reserve your ticket today!</em></p>\n
LOCATION:Mountain Resource Center 11030 Kitty Dr\, Conifer\, CO 80433
UID:e.692.44192
SEQUENCE:3
DTSTAMP:20260426T031724Z
URL:https://business.goconifer.com/events/details/the-witches-gathering-44192
END:VEVENT

END:VCALENDAR
