BEGIN:VCALENDAR
VERSION:2.0
PRODID:-//ChamberMaster//Event Calendar 2.0//EN
METHOD:PUBLISH
X-PUBLISHED-TTL:P3D
REFRESH-INTERVAL:P3D
CALSCALE:GREGORIAN
BEGIN:VEVENT
DTSTART:20131123T020000Z
DTEND:20131208T043000Z
X-MICROSOFT-CDO-ALLDAYEVENT:FALSE
SUMMARY:The Venue Theatre Company production of Hairspray
DESCRIPTION:The Venue Theatre Company is proud to present our Inaugural show\, Hairspray and the opening of our brand new theatre! Hairspray is about a large girl with large hair\, who just wants to dance and integrate a popular dance TV program. A Musical Comedy fun fr the whole family.
X-ALT-DESC;FMTTYPE=text/html:The Venue Theatre Company is proud to present our Inaugural show\, Hairspray and the opening of our brand new theatre! Hairspray is about a large girl with large hair\, who just wants to dance and integrate a popular dance TV program. A Musical Comedy fun fr the whole family.
LOCATION:The Venue Theatre Company 27132 Main St. Conifer Town Center\, Conifer\, CO 80433
UID:e.692.1589
SEQUENCE:3
DTSTAMP:20260423T201801Z
URL:https://business.goconifer.com/events/details/the-venue-theatre-company-production-of-hairspray-11-22-2013-1589
END:VEVENT

END:VCALENDAR
