BEGIN:VCALENDAR
VERSION:2.0
PRODID:-//ChamberMaster//Event Calendar 2.0//EN
METHOD:PUBLISH
X-PUBLISHED-TTL:P3D
REFRESH-INTERVAL:P3D
CALSCALE:GREGORIAN
BEGIN:VEVENT
DTSTART:20131124T020000Z
DTEND:20131124T040000Z
X-MICROSOFT-CDO-ALLDAYEVENT:FALSE
SUMMARY:The Venue Theatre Company Presents "Hairspray\, The Musical"
DESCRIPTION:BIG MUSICAL\, BIG COMEDY\, BIG HAIR! Directed by Nelson Conway\, choreographed by Maryjean Fowler\, accompanied by Deb Christensen\, and presented by our talented high school company. HAIRSPRAY\, winner of 8 Tony Awards including Best Musical\, is a family-friendly musical piled bouffant high with laughter\, romance\, and deliriously tuneful songs. The 1950's are out and change is in the air! It's 1962 in Baltimore\, and the lovable plus-size teen Tracy Turnblad has only one desire -- to dance on the popular Corny Collins Show. When her dream comes true\, Tracy is transformed from social outcast to sudden star. She must use her newfound power to dethrone the reigning Teen Queen\, win the affections of heartthrob Link Larkin\, and integrate a TV network\, all without denting her 'do!
X-ALT-DESC;FMTTYPE=text/html:BIG MUSICAL\, BIG COMEDY\, BIG HAIR! Directed by Nelson Conway\, choreographed by Maryjean Fowler\, accompanied by Deb Christensen\, and presented by our talented high school company. HAIRSPRAY\, winner of 8 Tony Awards including Best Musical\, is a family-friendly musical piled bouffant high with laughter\, romance\, and deliriously tuneful songs. The 1950&#39\;s are out and change is in the air! It&#39\;s 1962 in Baltimore\, and the lovable plus-size teen Tracy Turnblad has only one desire -- to dance on the popular Corny Collins Show. When her dream comes true\, Tracy is transformed from social outcast to sudden star. She must use her newfound power to dethrone the reigning Teen Queen\, win the affections of heartthrob Link Larkin\, and integrate a TV network\, all without denting her &#39\;do! 
LOCATION:The Venue Theatre Company\, 27132 Main Street\, Conifer\, CO 80433
UID:e.692.1582
SEQUENCE:3
DTSTAMP:20260423T213902Z
URL:https://business.goconifer.com/events/details/the-venue-theatre-company-presents-hairspray-the-musical-11-23-2013-1582
END:VEVENT

END:VCALENDAR
