BEGIN:VCALENDAR
VERSION:2.0
PRODID:-//ChamberMaster//Event Calendar 2.0//EN
METHOD:PUBLISH
X-PUBLISHED-TTL:P3D
REFRESH-INTERVAL:P3D
CALSCALE:GREGORIAN
BEGIN:VEVENT
DTSTART:20160106T020000Z
DTEND:20160106T040000Z
X-MICROSOFT-CDO-ALLDAYEVENT:FALSE
SUMMARY:The Laws from the Torah That Were Adopted Into US Law
DESCRIPTION:See the Torah in a whole new light! In this lecture\, you will learn how the Torah became the foundation of much of the law in the United States. By the time this lecture is over\, you will see the Ten Commandments and the Torah in a new way\, one that will make you proud of your heritage and your people.\n\nStephen D. Tick is an attorney with 36 years of experience. He is a member of Sherman & Howard LLC\, the oldest and one of the most prestigious law firms in Denver. Stephen studied with Rabbi Zwerin at Temple Sinai for more than 20 years\, was chair of Temple Sinai's Adult Education Committee\, sat on its board (and the boards of other Jewish organizations)\, and has been very active in interfaith activities. Stephen just moved to Evergreen with his wife\, Kyle\, who is a psychotherapist. Their first stop after the closing was to come to Congregation Beth Evergreen.
X-ALT-DESC;FMTTYPE=text/html:<p>See the Torah in a whole new light! In this lecture\, you will learn how the Torah became the foundation of much of the law in the United States. By the time this lecture is over\, you will see the Ten Commandments and the Torah in a new way\, one that will make you proud of your heritage and your people.</p>\n\n<p><em><strong>Stephen D. Tick</strong></em>&nbsp\;is an attorney with 36 years of experience. He is a member of Sherman &amp\; Howard LLC\, the oldest and one of the most prestigious law firms in Denver. Stephen studied with Rabbi Zwerin at Temple Sinai for more than 20 years\, was chair of Temple Sinai&#39\;s Adult Education Committee\, sat on its board (and the boards of other Jewish organizations)\, and has been very active in interfaith activities. Stephen just moved to Evergreen with his wife\, Kyle\, who is a psychotherapist. Their first stop after the closing was to come to Congregation Beth Evergreen.</p>\n
LOCATION:2981 Bergen Peak Drive
UID:e.692.14184
SEQUENCE:3
DTSTAMP:20260422T032549Z
URL:https://business.goconifer.com/events/details/the-laws-from-the-torah-that-were-adopted-into-us-law-01-05-2016-14184
END:VEVENT

END:VCALENDAR
