BEGIN:VCALENDAR
VERSION:2.0
PRODID:-//ChamberMaster//Event Calendar 2.0//EN
METHOD:PUBLISH
X-PUBLISHED-TTL:P3D
REFRESH-INTERVAL:P3D
CALSCALE:GREGORIAN
BEGIN:VEVENT
DTSTART:20160612T160000Z
DTEND:20160612T210000Z
X-MICROSOFT-CDO-ALLDAYEVENT:FALSE
SUMMARY:The Great Bird Adventure!
DESCRIPTION:The Great Bird Adventure! 10am - 3pm\n\nParticipants will explore Colorado's most popular birds with a overview of interesting facts\, as well as nesting and feeding behaviors. Then armed with binoculars and birding guides visitors can enjoy a guided hike (12n) in search of these beautiful creatures!
X-ALT-DESC;FMTTYPE=text/html:<strong><span style="color:#008800">The Great Bird Adventure! 10am - 3pm</span></strong><br />\n<em>Participants will explore Colorado&rsquo\;s most popular birds with a overview of interesting facts\, as well as nesting and feeding behaviors. Then armed with binoculars and birding guides visitors can enjoy a guided hike (12n) in search of these beautiful creatures!</em>
LOCATION:Staunton State Park\, 12102 S Elk Creek Rd\, Pine CO 80470
UID:e.692.18847
SEQUENCE:3
DTSTAMP:20260421T222752Z
URL:https://business.goconifer.com/events/details/the-great-bird-adventure-06-12-2016-18847
END:VEVENT

END:VCALENDAR
