BEGIN:VCALENDAR
VERSION:2.0
PRODID:-//ChamberMaster//Event Calendar 2.0//EN
METHOD:PUBLISH
X-PUBLISHED-TTL:P3D
REFRESH-INTERVAL:P3D
CALSCALE:GREGORIAN
BEGIN:VEVENT
DTSTART:20100525T003000Z
DTEND:20100525T020500Z
X-MICROSOFT-CDO-ALLDAYEVENT:FALSE
SUMMARY:''The Family Circus'' Workshop on Stress Management
DESCRIPTION:Join us for a FREE and FUN\,  "Families Fighting Fatigue" workshop. Learn efective ways to manage stress within your family!
X-ALT-DESC;FMTTYPE=text/html:Join us for a FREE and FUN\,  "Families Fighting Fatigue" workshop. Learn efective ways to manage stress within your family!
LOCATION:Mountain Resource Center
UID:e.692.419
SEQUENCE:3
DTSTAMP:20260424T112551Z
URL:https://business.goconifer.com/events/details/the-family-circus-workshop-on-stress-management-05-24-2010-419
END:VEVENT

END:VCALENDAR
