BEGIN:VCALENDAR
VERSION:2.0
PRODID:-//ChamberMaster//Event Calendar 2.0//EN
METHOD:PUBLISH
X-PUBLISHED-TTL:P3D
REFRESH-INTERVAL:P3D
CALSCALE:GREGORIAN
BEGIN:VEVENT
DTSTART:20100724T013000Z
DTEND:20100724T033000Z
X-MICROSOFT-CDO-ALLDAYEVENT:FALSE
SUMMARY:The Evergreen Players Present: Urinetown
DESCRIPTION:Music by Mark Hollman\, Lyrics by Mark Hollman and Greg Kotis\, and Book by Greg Kotis [PG-13]\n\nDirected by John Thornberry. Music directed by Travis Yamamoto. \n\nDue to a government-enforced ban on private toilets\, Urinetown citizens must pay to use public amenities. In a hilarious tale of corruption\, greed\, and love\, the oppressed masses plan a revolution against the malevolent company that profits by charging admission for one of humanity's most basic needs. Go to www.evergreenplayers.org for more information and ticket prices.
X-ALT-DESC;FMTTYPE=text/html:Music by Mark Hollman\, Lyrics by Mark Hollman and Greg Kotis\, and Book by Greg Kotis [PG-13]\n<br>Directed by John Thornberry. Music directed by Travis Yamamoto. \n<br>Due to a government-enforced ban on private toilets\, Urinetown citizens must pay to use public amenities. In a hilarious tale of corruption\, greed\, and love\, the oppressed masses plan a revolution against the malevolent company that profits by charging admission for one of humanity's most basic needs. Go to www.evergreenplayers.org for more information and ticket prices.\n<br>
LOCATION:Center/Stage\, 27608 Fireweed Drive\, Evergreen\, CO 80439
UID:e.692.347
SEQUENCE:3
DTSTAMP:20260424T141638Z
URL:https://business.goconifer.com/events/details/the-evergreen-players-present-urinetown-07-23-2010-347
END:VEVENT

END:VCALENDAR
