BEGIN:VCALENDAR
VERSION:2.0
PRODID:-//ChamberMaster//Event Calendar 2.0//EN
METHOD:PUBLISH
X-PUBLISHED-TTL:P3D
REFRESH-INTERVAL:P3D
CALSCALE:GREGORIAN
BEGIN:VEVENT
DTSTART:20101031T013000Z
DTEND:20101031T033000Z
X-MICROSOFT-CDO-ALLDAYEVENT:FALSE
SUMMARY:The Evergreen Players Present:The Cripple of Inishmaan
DESCRIPTION:Martin Mc Donagh [PG-13]\n\nA Hollywood documentary film crew arrives in a small island community off the western coast of Ireland circa 1934. In a world where boredom takes on an existential quality\, this bitingly funny dark comedy follows the struggle of an outcast who gets his chance to vie for a part in the film. Go to www.evergreenplayers.org for more information and ticket prices.
X-ALT-DESC;FMTTYPE=text/html:Martin Mc Donagh [PG-13]\n<br>A Hollywood documentary film crew arrives in a small island community off the western coast of Ireland circa 1934. In a world where boredom takes on an existential quality\, this bitingly funny dark comedy follows the struggle of an outcast who gets his chance to vie for a part in the film. Go to www.evergreenplayers.org for more information and ticket prices. \n<br>
LOCATION:Center/Stage\, 27608 Fireweed Drive\, Evergreen\, CO 80439
UID:e.692.360
SEQUENCE:3
DTSTAMP:20260424T181507Z
URL:https://business.goconifer.com/events/details/the-evergreen-players-present-the-cripple-of-inishmaan-10-30-2010-360
END:VEVENT

END:VCALENDAR
