BEGIN:VCALENDAR
VERSION:2.0
PRODID:-//ChamberMaster//Event Calendar 2.0//EN
METHOD:PUBLISH
X-PUBLISHED-TTL:P3D
REFRESH-INTERVAL:P3D
CALSCALE:GREGORIAN
BEGIN:VEVENT
DTSTART:20101218T023000Z
DTEND:20101218T043000Z
X-MICROSOFT-CDO-ALLDAYEVENT:FALSE
SUMMARY:The Evergreen Players Present :A Christmas Carol
DESCRIPTION:Adapted from the story by Charles Dickens [G]\n\nThis classic Dickens tale is a must for the holidays and always a family favorite. Join Ebenezer Scrooge\, the ghosts of Christmas past\, present\, and future\, and of course\, Tiny Tim\, in celebrating the season. Go to www.evergreenplayers.org for more information and ticket prices.
X-ALT-DESC;FMTTYPE=text/html:Adapted from the story by Charles Dickens [G]\n<br>This classic Dickens tale is a must for the holidays and always a family favorite. Join Ebenezer Scrooge\, the ghosts of Christmas past\, present\, and future\, and of course\, Tiny Tim\, in celebrating the season. Go to www.evergreenplayers.org for more information and ticket prices. \n<br>
LOCATION:Center/Stage\, 27608 Fireweed Drive\, Evergreen\, CO 80439
UID:e.692.368
SEQUENCE:3
DTSTAMP:20260424T212437Z
URL:https://business.goconifer.com/events/details/the-evergreen-players-present-a-christmas-carol-12-17-2010-368
END:VEVENT

END:VCALENDAR
