BEGIN:VCALENDAR
VERSION:2.0
PRODID:-//ChamberMaster//Event Calendar 2.0//EN
METHOD:PUBLISH
X-PUBLISHED-TTL:P3D
REFRESH-INTERVAL:P3D
CALSCALE:GREGORIAN
BEGIN:VEVENT
DTSTART:20100515T013000Z
DTEND:20100516T200000Z
X-MICROSOFT-CDO-ALLDAYEVENT:FALSE
SUMMARY:The Evergreen Chorale Presents: Take Me Home ? Songs From Across The Nation
DESCRIPTION:Come travel coast-to-coast in song with the Evergreen Chorale.  We will sing our way from ?New York\, New York? to ?Dixie\,? make a stop on the ?Colorado Trail? and ask you ?Do You Know the Way to San Jose??  Join us for the fun!\n\n\n\nReservations:  303-674-4002 or www.evergreenchorale.org
X-ALT-DESC;FMTTYPE=text/html:Come travel coast-to-coast in song with the Evergreen Chorale.  We will sing our way from ?New York\, New York? to ?Dixie\,? make a stop on the ?Colorado Trail? and ask you ?Do You Know the Way to San Jose??  Join us for the fun!\n<br>\n<br>Reservations:  303-674-4002 or www.evergreenchorale.org\n<br>
LOCATION:Center/Stage ? 27608 Fireweed Drive
UID:e.692.341
SEQUENCE:3
DTSTAMP:20260424T112847Z
URL:https://business.goconifer.com/events/details/the-evergreen-chorale-presents-take-me-home-songs-from-across-the-nation-05-14-2010-341
END:VEVENT

END:VCALENDAR
