BEGIN:VCALENDAR
VERSION:2.0
PRODID:-//ChamberMaster//Event Calendar 2.0//EN
METHOD:PUBLISH
X-PUBLISHED-TTL:P3D
REFRESH-INTERVAL:P3D
CALSCALE:GREGORIAN
BEGIN:VEVENT
DTSTART;VALUE=DATE:20100616
DTEND;VALUE=DATE:20100617
TRANSP:TRANSPARENT
X-MICROSOFT-CDO-ALLDAYEVENT:TRUE
SUMMARY:The Early History of Meyer Ranch
DESCRIPTION:Circa 1860\, the Duncan McIntyre family homesteaded here and built the barn on the property that is now Meyer Ranch. The great-grandson of Duncan McIntyre will share the fascinating history of his ancestors.
X-ALT-DESC;FMTTYPE=text/html:Circa 1860\, the Duncan McIntyre family homesteaded here and built the barn on the property that is now Meyer Ranch. The great-grandson of Duncan McIntyre will share the fascinating history of his ancestors.  
LOCATION:Stage Door Theatre
UID:e.692.436
SEQUENCE:3
DTSTAMP:20260424T130444Z
URL:https://business.goconifer.com/events/details/the-early-history-of-meyer-ranch-06-16-2010-436
END:VEVENT

END:VCALENDAR
