BEGIN:VCALENDAR
VERSION:2.0
PRODID:-//ChamberMaster//Event Calendar 2.0//EN
METHOD:PUBLISH
X-PUBLISHED-TTL:P3D
REFRESH-INTERVAL:P3D
CALSCALE:GREGORIAN
BEGIN:VEVENT
DTSTART:20231227T220000Z
DTEND:20231228T003000Z
X-MICROSOFT-CDO-ALLDAYEVENT:FALSE
SUMMARY:The Bright Center - Yoga Open Gym
DESCRIPTION:YOGI's \n\nBring your mat or borrow one and enjoy our space to do your own yoga practice\, work on a pose or build a class. Blocks\, straps and blankets available. Connect and practice with other local yogis or have space to retreat. Calming music and hot tea available. Donation based event.
X-ALT-DESC;FMTTYPE=text/html:<span style="font-family:courier new\,courier-ps-w01\,courier-ps-w02\,courier-ps-w10\,monospace\; font-size:16px">YOGI&#39\;s&nbsp\;<br />\nBring your mat or borrow one and enjoy our space to do your own yoga practice\, work on a pose or build a class. Blocks\, straps and blankets available. Connect and practice with other local yogis or have space to retreat. Calming music and hot tea available. Donation based event.</span>
LOCATION:The Bright Center\, 25577 Conifer Rd\, Conifer\, CO 80433\, USA
UID:e.692.38690
SEQUENCE:3
DTSTAMP:20260420T164911Z
URL:https://business.goconifer.com/events/details/the-bright-center-yoga-open-gym-12-27-2023-38690
END:VEVENT

END:VCALENDAR
