BEGIN:VCALENDAR
VERSION:2.0
PRODID:-//ChamberMaster//Event Calendar 2.0//EN
METHOD:PUBLISH
X-PUBLISHED-TTL:P3D
REFRESH-INTERVAL:P3D
CALSCALE:GREGORIAN
BEGIN:VEVENT
DTSTART:20160707T003000Z
DTEND:20160707T033000Z
X-MICROSOFT-CDO-ALLDAYEVENT:FALSE
SUMMARY:The Addams Family Preview Performance\, a fundraiser for Mountain Resource Center
DESCRIPTION:"THE ADDAMS FAMILY" PREVIEW PERFORMANCE BENEFITS MOUNTAIN RESOURCE CENTER\n\nEvergreen Players has invited guests of Mountain Resource Center to join them at 6:30 p.m. Wednesday\, July 6 for the preview of The Addams Family\, a spooky\, fun musical suitable for both children and adults. The event will take place at Center Stage at 27608 Firewood Drive\, Evergreen. Suggested donation is $25 per person and $50 for Gold Seating (first two rows).  Proceeds from the event will be used to support the services that Mountain Resource Center provides to individuals and families in our community.\n\n \n\nReception will begin at 6:30 p.m.\, seating to start at 7:15 p.m. with 7:30 p.m. performance. Light appetizers\, beer and wine will be served at 6:30 p.m. and again at intermission\; donations appreciated.\n\n \n\nAbout the Performance\n\nWednesday Addams\, the ultimate princess of darkness\, has grown up and fallen in love with a sweet\, smart young man from a respectable family   a man her parents have never met. And if that weren't upsetting enough\, Wednesday confides in her father and begs him not to tell her mother. Now\, Gomez Addams must do something he's never done before  keep a secret from his beloved wife\, Morticia. Everything will change for the whole family on the fateful night they host a dinner for Wednesday's 'normal' boyfriend and his parents.\n\n \n\nTickets (recommended donation of $25.00 or $50.00 each) can be purchased at Mountain Resource Center Monday   Thursday from 9 a.m. to 1 p.m. and 2 p.m. to 5 p.m. or online at www.mrcco.org.\n\n \n\nAbout Mountain Resource Center\n\nMountain Resource Center is a community-based non-profit organization with a mission to provide high quality\, integrated health and human services that improve the lives of people in mountain communities we serve. We rely heavily upon donations and volunteers from the community to meet these needs. www.mrcco.org
X-ALT-DESC;FMTTYPE=text/html:<strong><span style="font-size:10.5pt"><span style="font-family:times new roman\,serif">&ldquo\;THE ADDAMS FAMILY&rdquo\; PREVIEW PERFORMANCE BENEFITS MOUNTAIN RESOURCE CENTER</span></span></strong><br />\n<span style="font-size:medium"><span style="font-family:times new roman\,serif">Evergreen Players has invited guests of Mountain Resource Center to join&nbsp\;them at 6:30 p.m. Wednesday\, July 6 for the preview&nbsp\;of <em>The Addams Family</em>\, a spooky\, fun musical suitable for both children and adults. The event will take place at Center Stage at 27608 Firewood Drive\, Evergreen. Suggested donation is $25 per person and $50 for Gold Seating <em>(first two rows)</em>.&nbsp\; </span><span style="font-family:times new roman\,serif">Proceeds from the event will be used to support the services that Mountain Resource Center provides to individuals and families in our community.</span></span><br />\n&nbsp\;<br />\n<span style="font-family:times new roman\,serif"><span style="font-size:medium">Reception will begin at 6:30 p.m.\, seating to start at 7:15 p.m. with 7:30 p.m. performance. Light appetizers\, beer and wine will be served at 6:30 p.m. and again at intermission\; donations appreciated.</span></span><br />\n&nbsp\;<br />\n<strong><u><span style="font-family:times new roman\,serif"><span style="font-size:medium">About the Performance</span></span></u></strong><br />\n<span style="font-family:times new roman\,serif"><span style="font-size:medium">Wednesday&nbsp\;Addams\, the ultimate princess of darkness\, has grown up and fallen&nbsp\;in&nbsp\;love with a sweet\, smart young man from a respectable family &ndash\; a man her parents have never met. And if that weren&#39\;t upsetting enough\, Wednesday confides in her father and begs him not to tell her mother. Now\, Gomez Addams must do something he&#39\;s never done&nbsp\;before&ndash\; keep a secret from his beloved wife\, Morticia. Everything will change for the whole family on the fateful night they host a dinner for Wednesday&#39\;s &#39\;normal&#39\; boyfriend and his parents.</span></span><br />\n&nbsp\;<br />\n<span style="font-family:times new roman\,serif"><span style="font-size:medium">Tickets (recommended donation of $25.00 or $50.00 each) can be purchased at Mountain Resource Center Monday &ndash\; Thursday from 9 a.m. to 1 p.m. and 2 p.m. to 5 p.m. or online at </span></span><a href="http://www.mrcco.org/"><span style="font-family:times new roman\,serif"><span style="font-size:medium"><span style="color:rgb(0\, 0\, 255)">www.mrcco.org</span></span></span></a><span style="font-family:times new roman\,serif"><span style="font-size:medium">.</span></span><br />\n&nbsp\;<br />\n<strong><u><span style="font-family:times new roman\,serif"><span style="font-size:medium">About Mountain Resource Center</span></span></u></strong><br />\n<span style="font-size:medium"><em><span style="font-family:times new roman\,serif">Mountain Resource Center is a community-based non-profit organization with a mission to provide high quality\, integrated health and human services that improve the lives of people in mountain communities we serve. We rely heavily upon donations and volunteers from the community to meet these needs.</span></em> </span><a href="http://www.mrcco.org/"><span style="font-family:times new roman\,serif"><span style="font-size:medium"><span style="color:rgb(0\, 0\, 255)">www.mrcco.org</span></span></span></a><br />\n&nbsp\;<br />\n&nbsp\;
LOCATION:Center Stage at 27608 Firewood Drive\, Evergreen
UID:e.692.18890
SEQUENCE:3
DTSTAMP:20260421T193924Z
URL:https://business.goconifer.com/events/details/the-addams-family-preview-performance-a-fundraiser-for-mountain-resource-center-07-06-2016-18890
END:VEVENT

END:VCALENDAR
