BEGIN:VCALENDAR
VERSION:2.0
PRODID:-//ChamberMaster//Event Calendar 2.0//EN
METHOD:PUBLISH
X-PUBLISHED-TTL:P3D
REFRESH-INTERVAL:P3D
CALSCALE:GREGORIAN
BEGIN:VEVENT
DTSTART:20101107T000000Z
DTEND:20101107T030000Z
X-MICROSOFT-CDO-ALLDAYEVENT:FALSE
SUMMARY:Tenth Annual Conifer Area Chamber of Commerce Fall Wine Tasting
DESCRIPTION:The Tenth Annual Conifer Chamber Fall Wine Tasting\n\n	Presented by IREA and Morse Evergreen Auto Body\n\n	\n\n	Join us for a special evening of wonderful wines\, fine food\, silent auction opportunities\, door prizes\, and live music.\n\n	\n\n	Sample wines from Aspen Peak Cellars\, Creekside Cellars\, Spero Winery\, and VarAison Vinyards.\n\n	\n\n	Enjoy edibles from Aspen Specialty Food & Catering\, Cabin Creek Smokehouse\, The Deli at Evergreen South\, Tuscan Tavern\, and Zoka's.\n\n	\n\n	\n\n	               with additional sponsorship by\n\n	Aspen Park Wine & Spirits\n\n	Saylor and Sons\n\n	 \n\n	A Sante` Professional Skin Care at Conifer Mountain Medical Aesthetics\n\n	First Bank of Aspen Park\n\n	Friends of Cheri Gerou\n\n	Mountain Connection\n\n	Mutual of Omaha Bank\n\n	Starfish Advertising\n\n	\n\n	American Craftsman Homes\n\n	Commonwealth Insurance\n\n	Conifer Kitchen Design\n\n	Creekside Insurance\n\n	 Law Offices of Robert J. Potrykus\, LLC \n\n	LCI Signs and Ironworks\n\n	Rocky Mountain Computer Services\, LLC\n\n	The Deli at Evergreen South\n\n	The Preserve at Pine Meadows HOA
X-ALT-DESC;FMTTYPE=text/html:<p>\n	<span style="font-size: 16px"><span><font color="#008000"><font size="3">The Tenth Annual Conifer Chamber Fall Wine Tasting<br />\n	Presented by <strong>IREA</strong> and <strong>Morse Evergreen Auto Body</strong></font></font></span><br />\n	<br />\n	Join us for a special evening of wonderful wines\, fine food\, silent auction opportunities\, door prizes\, and live music.<br />\n	<br />\n	Sample wines from Aspen Peak Cellars\, Creekside&nbsp\;Cellars\, Spero Winery\, and&nbsp\;VarAison Vinyards.<br />\n	<br />\n	Enjoy&nbsp\;edibles&nbsp\;from&nbsp\;Aspen Specialty Food &amp\; Catering\,&nbsp\;Cabin Creek Smokehouse\, The Deli at Evergreen South\, Tuscan Tavern\,&nbsp\;and Zoka&#39\;s.<br />\n	<br />\n	<br />\n	<font color="#008000" size="3">&nbsp\;&nbsp\;&nbsp\;&nbsp\;&nbsp\;&nbsp\;&nbsp\;&nbsp\;&nbsp\;&nbsp\;&nbsp\;&nbsp\;&nbsp\;&nbsp\; with additional sponsorship by</font></span></p>\n<p style="text-align: center">\n	<span style="font-size: 16px"><span style="font-size: 14px"><strong><font color="#008000">Aspen Park Wine &amp\; Spirits</font><br />\n	<font color="#008000">Saylor and Sons</font></strong></span><br />\n	&nbsp\;</span></p>\n<p style="text-align: center">\n	<span style="font-size: 16px"><span style="font-size: 12px"><span style="font-size: 14px"><font color="#008000">A Sante` Professional Skin Care at Conifer Mountain Medical Aesthetics<br />\n	First Bank of Aspen Park<br />\n	Friends of Cheri Gerou<br />\n	Mountain Connection</font></span><br />\n	<font color="#008000"><span style="font-size: 14px">Mutual of Omaha Bank<br />\n	Starfish Advertising</span><br />\n	<br />\n	American Craftsman Homes<br />\n	<font color="#008000">Commonwealth Insurance<br />\n	Conifer Kitchen Design<br />\n	Creekside Insurance</font><br />\n	&nbsp\;<span style="font-size: 12px"><font color="#008000">Law Offices of Robert J. Potrykus\, LLC&nbsp\;<br />\n	LCI Signs and Ironworks<br />\n	Rocky Mountain Computer Services\, LLC<br />\n	The Deli at Evergreen South<br />\n	<font color="#008000">The Preserve at Pine Meadows HOA</font></font></span></font></span><br />\n	<br />\n	<br />\n	&nbsp\;</span></p>\n
LOCATION:The Red Barn The Meadows at Marshdale 27826 Alabraska Lane\, Evergreen\, CO 80439 (303) 674-1838 From Denver\, go west on I-70 to Exit 252\, Evergreen Parkway (Highway74). Follow Evergreen Parkway until it intersects with Highway 73\, located at the foot of the dam at Evergreen Lake (approx. 7 miles). Turn right (south) onto Highway 73 and go about 3.5 miles (uphill all the way). After road begins to go downhill\, look for Alabraska Lane (at bottom of hill) and turn right. Take the second left onto Singing Springs Lane\, then the second left to The Red Barn (past school).
UID:e.692.791
SEQUENCE:3
DTSTAMP:20260424T195333Z
URL:https://business.goconifer.com/events/details/tenth-annual-conifer-area-chamber-of-commerce-fall-wine-tasting-11-06-2010-791
END:VEVENT

END:VCALENDAR
