BEGIN:VCALENDAR
VERSION:2.0
PRODID:-//ChamberMaster//Event Calendar 2.0//EN
METHOD:PUBLISH
X-PUBLISHED-TTL:P3D
REFRESH-INTERVAL:P3D
CALSCALE:GREGORIAN
BEGIN:VEVENT
DTSTART:20141021T210000Z
DTEND:20141021T230000Z
X-MICROSOFT-CDO-ALLDAYEVENT:FALSE
SUMMARY:Teen Time at Conifer Public Library
DESCRIPTION:Crafts\, Board Games\, Video Games\, creative writing?  What would you like to do? We'll provide the material. You have fun\, learn something new\, or just hang out with friends. Let us know if you have some ideas on what you would like this club to do. This is your time.
X-ALT-DESC;FMTTYPE=text/html:<span style="color: rgb(0\, 0\, 0)\; font-family: Arial\; font-size: 12px\; font-style: normal\; font-variant: normal\; font-weight: normal\; letter-spacing: normal\; line-height: normal\; orphans: auto\; text-align: left\; text-indent: 0px\; text-transform: none\; white-space: normal\; widows: auto\; word-spacing: 0px\; -webkit-text-stroke-width: 0px\; background-color: rgb(255\, 255\, 255)\; display: inline !important\; float: none\;">Crafts\, Board Games\, Video Games\, creative writing? &nbsp\;What would you like to do? We&#39\;ll provide the material. You have fun\, learn something new\, or just hang out with friends. Let&nbsp\;us know if you have some ideas on what&nbsp\;you would like this club to do. This is your time. </span>
LOCATION:Conifer Public Library located within Conifer High School
UID:e.692.2490
SEQUENCE:3
DTSTAMP:20260423T062138Z
URL:https://business.goconifer.com/events/details/teen-time-at-conifer-public-library-10-21-2014-2490
END:VEVENT

END:VCALENDAR
