BEGIN:VCALENDAR
VERSION:2.0
PRODID:-//ChamberMaster//Event Calendar 2.0//EN
METHOD:PUBLISH
X-PUBLISHED-TTL:P3D
REFRESH-INTERVAL:P3D
CALSCALE:GREGORIAN
BEGIN:VEVENT
DTSTART:20160315T003000Z
DTEND:20160315T020000Z
X-MICROSOFT-CDO-ALLDAYEVENT:FALSE
SUMMARY:Teen Driver Survival Seminar
DESCRIPTION:Are you ready for your teen to drive? FREE SEMINAR ON TEEN DRIVER SAFETY Parents and teens are invited to learn how to instill life-saving driving skills Wednesday\, March 2\, 6:30 PM (Snow date 3/9) Dakota Ridge Auditorium Tuesday\, March 8\, 6:30 PM Evergreen High Library Monday\, March 14\, 6:30 PM (Snow date 3/16) Conifer High School Cafeteria Presentations on the following topics: v Legal and financial consequences for violating teen driving laws v What kind of insurance policies protect teens and their parents v Steps to getting your drivers permit and logging drive time v Details regarding Teen Driving Laws v Medical issues and driving performance v Vehicle safety and maintenance v Learn about Drivers Ed Scholarships provided by DRIVE SMART-DEADLINE 4/15/2016   This presentation is brought to you in partnership with:   Alive at 25 / Colo. St. Patrol Family Foundation   CarbyFarmer?s Insurance   Colorado Department of Transportation   Conifer & Evergreen High School PTSA?s   Drive Safe Driving School   DRIVE SMART Transportation Safety Coalition   Master Drive Driving School   Morse Auto Body There will be refreshments and a drawing for $50 gift card For more information visit: www.drive-smart.org or call 303-674-9683
X-ALT-DESC;FMTTYPE=text/html:Are you ready for your teen to drive? FREE SEMINAR ON TEEN DRIVER SAFETY Parents and teens are invited to learn how to instill life-saving driving skills Wednesday\, March 2\, 6:30 PM (Snow date 3/9) Dakota Ridge Auditorium Tuesday\, March 8\, 6:30 PM Evergreen High Library Monday\, March 14\, 6:30 PM (Snow date 3/16) Conifer High School Cafeteria Presentations on the following topics: v Legal and financial consequences for violating teen driving laws v What kind of insurance policies protect teens and their parents v Steps to getting your drivers permit and logging drive time v Details regarding Teen Driving Laws v Medical issues and driving performance v Vehicle safety and maintenance v Learn about Drivers Ed Scholarships provided by DRIVE SMART-DEADLINE 4/15/2016 &Oslash\; This presentation is brought to you in partnership with: &middot\; Alive at 25 / Colo. St. Patrol Family Foundation &middot\; CarbyFarmer?s Insurance &middot\; Colorado Department of Transportation &middot\; Conifer &amp\; Evergreen High School PTSA?s &middot\; Drive Safe Driving School &middot\; DRIVE SMART Transportation Safety Coalition &middot\; Master Drive Driving School &middot\; Morse Auto Body There will be refreshments and a drawing for $50 gift card For more information visit: www.drive-smart.org or call 303-674-9683
LOCATION:Conifer High School cafeteria
UID:e.692.17120
SEQUENCE:3
DTSTAMP:20260422T012838Z
URL:https://business.goconifer.com/events/details/teen-driver-survival-seminar-03-14-2016-17120
END:VEVENT

END:VCALENDAR
