BEGIN:VCALENDAR
VERSION:2.0
PRODID:-//ChamberMaster//Event Calendar 2.0//EN
METHOD:PUBLISH
X-PUBLISHED-TTL:P3D
REFRESH-INTERVAL:P3D
CALSCALE:GREGORIAN
BEGIN:VEVENT
DTSTART:20200307T210000Z
DTEND:20200307T230000Z
X-MICROSOFT-CDO-ALLDAYEVENT:FALSE
SUMMARY:Tea for Mountain Peace
DESCRIPTION:Join PeaceWorks and the Mountain peace Shelter for a wonderful uplifting afternoon to celebrate women. There will be wonderful music by the Conifer High School String and Wind Ensemble. Reverend Kathy Mastroianni will give an enlightening talk: "Empowering Wisdom to Create Your Amazing Life." The beautiful singer and song writer\, Jo lle  tienne\, will be closing out the afternoon with her rich vocals and lyrics. Tori Girkins will be accompanying her on the key board. Delectable appetizers and healing teas will be served\, along with a silent auction. \n\n\n\nAll proceeds will go towards programming and services for survivors of domestic violence\, sexual assault and stalking.
X-ALT-DESC;FMTTYPE=text/html:<div>\n<div style="text-align:justify"><span style="font-size:14px"><span style="font-family:times new roman">Join PeaceWorks and the Mountain peace Shelter for a wonderful uplifting afternoon to celebrate women. There will be wonderful music by the Conifer High School String and Wind Ensemble. Reverend Kathy Mastroianni will give an enlightening talk: &ldquo\;Empowering Wisdom to Create Your Amazing Life.&rdquo\; The beautiful singer and song writer\, Jo&eacute\;lle &Eacute\;tienne\, will be closing out the afternoon with her rich vocals and lyrics.&nbsp\;<span style="color:rgb(0\, 0\, 0)">Tori Girkins will be accompanying her on the key board.&nbsp\;</span>Delectable appetizers and healing teas will be served\, along with a silent auction.&nbsp\;<br />\n<br />\nAll proceeds will go towards programming and services for survivors of domestic violence\, sexual assault and stalking.&nbsp\;</span></span></div>\n\n<div style="text-align:justify">&nbsp\;</div>\n</div>\n\n<div>&nbsp\;</div>\n
LOCATION:Conifer Community Church 9998 Havekost Rd\, Conifer\, CO 80433
UID:e.692.30048
SEQUENCE:3
DTSTAMP:20260426T033232Z
URL:https://business.goconifer.com/events/details/tea-for-mountain-peace-03-07-2020-30048
END:VEVENT

END:VCALENDAR
