BEGIN:VCALENDAR
VERSION:2.0
PRODID:-//ChamberMaster//Event Calendar 2.0//EN
METHOD:PUBLISH
X-PUBLISHED-TTL:P3D
REFRESH-INTERVAL:P3D
CALSCALE:GREGORIAN
BEGIN:VEVENT
DTSTART:20160625T170000Z
DTEND:20160625T180000Z
X-MICROSOFT-CDO-ALLDAYEVENT:FALSE
SUMMARY:Tai Chi for Arthritis Class
DESCRIPTION:This class is specifically designed for people with arthritis\, but can be beneficial for anyone looking to improve their balance\, improve their strength\, or just reduce stress.  This not a traditional Tai Chi class in the fact that there are no static poses\, and movements stay within a painfree range of motion.  The class is part of the Tai Chi for Health series created by Dr. Paul Lam\, and is recommended by the Arthritis Foundation.\n\nThis course is taught by Mary Thuente PT\, MSPT.  She is a certified Tai Chi for Arthritis instructor and a physical therapist. \n\nCost for entire 6 week course is $100
X-ALT-DESC;FMTTYPE=text/html:<div>This class is specifically designed for people with arthritis\, but can be beneficial for anyone looking to improve their balance\, improve their strength\, or just reduce stress.&nbsp\; This not a traditional Tai Chi class in the fact that there are no static poses\, and movements stay within a painfree range of motion.&nbsp\; The class is part of the Tai Chi for Health series created by Dr. Paul Lam\, and is recommended by the Arthritis Foundation.</div>\n\n<div>This course is taught by Mary Thuente PT\, MSPT.&nbsp\; She is a certified Tai Chi for Arthritis instructor and a physical therapist.&nbsp\;</div>\n\n<div>Cost for entire 6 week course is $100</div>\n
LOCATION:Conifer Physical Therapy 25577 Conifer Rd #125 Conifer CO 80433
UID:e.692.18824
SEQUENCE:3
DTSTAMP:20260421T211132Z
URL:https://business.goconifer.com/events/details/tai-chi-for-arthritis-class-06-25-2016-18824
END:VEVENT

END:VCALENDAR
