BEGIN:VCALENDAR
VERSION:2.0
PRODID:-//ChamberMaster//Event Calendar 2.0//EN
METHOD:PUBLISH
X-PUBLISHED-TTL:P3D
REFRESH-INTERVAL:P3D
CALSCALE:GREGORIAN
BEGIN:VEVENT
DTSTART:20160714T230000Z
DTEND:20160715T013000Z
X-MICROSOFT-CDO-ALLDAYEVENT:FALSE
SUMMARY:Summer Soiree Community Appreciation Party
DESCRIPTION:Join the Evergreen Chamber and the Evergreen Park & Rec District for a FREE party at Buchanan Rec Center to say thank you to the community and their members for all of the wonderful support! FREE food\, drinks\, entertainment & networking!
X-ALT-DESC;FMTTYPE=text/html:Join the Evergreen Chamber and the Evergreen Park &amp\; Rec District for a FREE party at Buchanan Rec Center to say thank you to the community and their members for all of the wonderful support! FREE food\, drinks\, entertainment &amp\; networking!
LOCATION:Buchanan Rec Center 32003 Ellingwood Trail Evergreen\, CO 80439
UID:e.692.18932
SEQUENCE:3
DTSTAMP:20260421T193458Z
URL:https://business.goconifer.com/events/details/summer-soiree-community-appreciation-party-07-14-2016-18932
END:VEVENT

END:VCALENDAR
