BEGIN:VCALENDAR
VERSION:2.0
PRODID:-//ChamberMaster//Event Calendar 2.0//EN
METHOD:PUBLISH
X-PUBLISHED-TTL:P3D
REFRESH-INTERVAL:P3D
CALSCALE:GREGORIAN
BEGIN:VEVENT
DTSTART:20130724T233000Z
DTEND:20130725T030000Z
X-MICROSOFT-CDO-ALLDAYEVENT:FALSE
SUMMARY:Summer Showcase Concert with Switchback to Benefit Evergreen Christian Outreach
DESCRIPTION:$10 suggested donation to help fund our summer lunch program for local children. Switchback will play from 7-9pm and Centennial State Pipes & Drums from 5:30-6:30. Boxed dinners from Switchback Smokehouse in Kittredge - $10 for pulled pork and $12 for pulled chicken.  Reserve yours by emailing lori@evergreenchristianoutreach.org.
X-ALT-DESC;FMTTYPE=text/html:<p class="MsoNormal" style="margin-bottom: 0pt\;">\n	<span style="font-family: Verdana\, sans-serif\; font-size: 12pt\;">$10 suggested donation to help fund our summer lunch program for local children. Switchback will play from 7-9pm and Centennial State Pipes &amp\; Drums from 5:30-6:30. Boxed dinners from Switchback Smokehouse in Kittredge - $10 for pulled pork and $12 for pulled chicken. &nbsp\;Reserve yours by emailing lori@evergreenchristianoutreach.org.&nbsp\;</span></p>\n
LOCATION:Evergreen Lake
UID:e.692.1495
SEQUENCE:3
DTSTAMP:20260424T045150Z
URL:https://business.goconifer.com/events/details/summer-showcase-concert-with-switchback-to-benefit-evergreen-christian-outreach-07-24-2013-1495
END:VEVENT

END:VCALENDAR
